BEGIN:VCALENDAR
VERSION:2.0
PRODID:-//Cornerstone - ECPv6.15.20//NONSGML v1.0//EN
CALSCALE:GREGORIAN
METHOD:PUBLISH
X-WR-CALNAME:Cornerstone
X-ORIGINAL-URL:https://www.cornerstonevictoria.com
X-WR-CALDESC:Events for Cornerstone
REFRESH-INTERVAL;VALUE=DURATION:PT1H
X-Robots-Tag:noindex
X-PUBLISHED-TTL:PT1H
BEGIN:VTIMEZONE
TZID:America/Vancouver
BEGIN:DAYLIGHT
TZOFFSETFROM:-0800
TZOFFSETTO:-0700
TZNAME:PDT
DTSTART:20250309T100000
END:DAYLIGHT
BEGIN:STANDARD
TZOFFSETFROM:-0700
TZOFFSETTO:-0800
TZNAME:PST
DTSTART:20251102T090000
END:STANDARD
BEGIN:DAYLIGHT
TZOFFSETFROM:-0800
TZOFFSETTO:-0700
TZNAME:PDT
DTSTART:20260308T100000
END:DAYLIGHT
BEGIN:STANDARD
TZOFFSETFROM:-0700
TZOFFSETTO:-0800
TZNAME:PST
DTSTART:20261101T090000
END:STANDARD
BEGIN:DAYLIGHT
TZOFFSETFROM:-0800
TZOFFSETTO:-0700
TZNAME:PDT
DTSTART:20270314T100000
END:DAYLIGHT
BEGIN:STANDARD
TZOFFSETFROM:-0700
TZOFFSETTO:-0800
TZNAME:PST
DTSTART:20271107T090000
END:STANDARD
END:VTIMEZONE
BEGIN:VEVENT
DTSTART;TZID=America/Vancouver:20260228T180000
DTEND;TZID=America/Vancouver:20260228T180000
DTSTAMP:20260422T040853
CREATED:20260202T024822Z
LAST-MODIFIED:20260202T024822Z
UID:5521-1772301600-1772301600@www.cornerstonevictoria.com
SUMMARY:Family Paint Night
DESCRIPTION:If you are interested in attending or for more info\, call \n1 (250) 818-7439 \n\n\n\n\n\n\nor email \ninfo@cornerstonevictoria.com
URL:https://www.cornerstonevictoria.com/event/family-paint-night/
LOCATION:BC
END:VEVENT
BEGIN:VEVENT
DTSTART;TZID=America/Vancouver:20260301T120000
DTEND;TZID=America/Vancouver:20260301T120000
DTSTAMP:20260422T040853
CREATED:20220628T093007Z
LAST-MODIFIED:20220628T093007Z
UID:4716-1772366400-1772366400@www.cornerstonevictoria.com
SUMMARY:Worship Service
DESCRIPTION:I was glad when they said unto me\, Let us go into the house of the Lord. Psalm 122:1
URL:https://www.cornerstonevictoria.com/event/sunday-worship-service-2026-03-01/
LOCATION:BC
ATTACH;FMTTYPE=image/png:https://www.cornerstonevictoria.com/wp-content/uploads/2022/06/Sunday-Service.png
END:VEVENT
BEGIN:VEVENT
DTSTART;TZID=America/Vancouver:20260303T193000
DTEND;TZID=America/Vancouver:20260303T193000
DTSTAMP:20260422T040853
CREATED:20220628T043850Z
LAST-MODIFIED:20220628T043850Z
UID:4701-1772566200-1772566200@www.cornerstonevictoria.com
SUMMARY:Bible classes for all ages
DESCRIPTION:This book of the law shall not depart out of thy mouth; but thou shalt meditate therein day and night\, that thou mayest observe to do according to all that is written therein: for then thou shalt make thy way prosperous\, and then thou shalt have good success. Joshua 1:8
URL:https://www.cornerstonevictoria.com/event/bible-study-2-2026-03-03/
LOCATION:Cornerstone Pentecostal Church\, 4274 Wilkinson Rd\, Victoria\, BC\, Victoria\, BC\, V8Z 5B5\, Canada
ATTACH;FMTTYPE=image/png:https://www.cornerstonevictoria.com/wp-content/uploads/2022/06/Bible-study-Cornerstone-Victoria.png
END:VEVENT
BEGIN:VEVENT
DTSTART;VALUE=DATE:20260306
DTEND;VALUE=DATE:20260307
DTSTAMP:20260422T040853
CREATED:20220629T140450Z
LAST-MODIFIED:20240506T013738Z
UID:5223-1772755200-1772841599@www.cornerstonevictoria.com
SUMMARY:Bread Ministry
DESCRIPTION:In addition to prayers and the word of God\, the mission of the bread ministry is to meet peoples’ needs through freshly baked bread provided in the church on a weekly basis every Friday evening. Feel free to stop by!
URL:https://www.cornerstonevictoria.com/event/bread-ministry-2023-2026-03-06/
LOCATION:Cornerstone Pentecostal Church\, 4274 Wilkinson Rd\, Victoria\, BC\, Victoria\, BC\, V8Z 5B5\, Canada
ATTACH;FMTTYPE=image/png:https://www.cornerstonevictoria.com/wp-content/uploads/2022/06/Bread-Ministry-2.png
END:VEVENT
BEGIN:VEVENT
DTSTART;TZID=America/Vancouver:20260308T120000
DTEND;TZID=America/Vancouver:20260308T120000
DTSTAMP:20260422T040853
CREATED:20220628T093007Z
LAST-MODIFIED:20220628T093007Z
UID:4717-1772971200-1772971200@www.cornerstonevictoria.com
SUMMARY:Worship Service
DESCRIPTION:I was glad when they said unto me\, Let us go into the house of the Lord. Psalm 122:1
URL:https://www.cornerstonevictoria.com/event/sunday-worship-service-2026-03-08/
LOCATION:BC
ATTACH;FMTTYPE=image/png:https://www.cornerstonevictoria.com/wp-content/uploads/2022/06/Sunday-Service.png
END:VEVENT
BEGIN:VEVENT
DTSTART;VALUE=DATE:20260313
DTEND;VALUE=DATE:20260314
DTSTAMP:20260422T040853
CREATED:20220629T140450Z
LAST-MODIFIED:20240506T013738Z
UID:5224-1773360000-1773446399@www.cornerstonevictoria.com
SUMMARY:Bread Ministry
DESCRIPTION:In addition to prayers and the word of God\, the mission of the bread ministry is to meet peoples’ needs through freshly baked bread provided in the church on a weekly basis every Friday evening. Feel free to stop by!
URL:https://www.cornerstonevictoria.com/event/bread-ministry-2023-2026-03-13/
LOCATION:Cornerstone Pentecostal Church\, 4274 Wilkinson Rd\, Victoria\, BC\, Victoria\, BC\, V8Z 5B5\, Canada
ATTACH;FMTTYPE=image/png:https://www.cornerstonevictoria.com/wp-content/uploads/2022/06/Bread-Ministry-2.png
END:VEVENT
BEGIN:VEVENT
DTSTART;TZID=America/Vancouver:20260315T120000
DTEND;TZID=America/Vancouver:20260315T120000
DTSTAMP:20260422T040853
CREATED:20220628T093007Z
LAST-MODIFIED:20220628T093007Z
UID:4718-1773576000-1773576000@www.cornerstonevictoria.com
SUMMARY:Worship Service
DESCRIPTION:I was glad when they said unto me\, Let us go into the house of the Lord. Psalm 122:1
URL:https://www.cornerstonevictoria.com/event/sunday-worship-service-2026-03-15/
LOCATION:BC
ATTACH;FMTTYPE=image/png:https://www.cornerstonevictoria.com/wp-content/uploads/2022/06/Sunday-Service.png
END:VEVENT
BEGIN:VEVENT
DTSTART;TZID=America/Vancouver:20260317T193000
DTEND;TZID=America/Vancouver:20260317T193000
DTSTAMP:20260422T040853
CREATED:20220628T043850Z
LAST-MODIFIED:20220628T043850Z
UID:4702-1773775800-1773775800@www.cornerstonevictoria.com
SUMMARY:Bible classes for all ages
DESCRIPTION:This book of the law shall not depart out of thy mouth; but thou shalt meditate therein day and night\, that thou mayest observe to do according to all that is written therein: for then thou shalt make thy way prosperous\, and then thou shalt have good success. Joshua 1:8
URL:https://www.cornerstonevictoria.com/event/bible-study-2-2026-03-17/
LOCATION:Cornerstone Pentecostal Church\, 4274 Wilkinson Rd\, Victoria\, BC\, Victoria\, BC\, V8Z 5B5\, Canada
ATTACH;FMTTYPE=image/png:https://www.cornerstonevictoria.com/wp-content/uploads/2022/06/Bible-study-Cornerstone-Victoria.png
END:VEVENT
BEGIN:VEVENT
DTSTART;VALUE=DATE:20260320
DTEND;VALUE=DATE:20260321
DTSTAMP:20260422T040853
CREATED:20220629T140450Z
LAST-MODIFIED:20240506T013738Z
UID:5225-1773964800-1774051199@www.cornerstonevictoria.com
SUMMARY:Bread Ministry
DESCRIPTION:In addition to prayers and the word of God\, the mission of the bread ministry is to meet peoples’ needs through freshly baked bread provided in the church on a weekly basis every Friday evening. Feel free to stop by!
URL:https://www.cornerstonevictoria.com/event/bread-ministry-2023-2026-03-20/
LOCATION:Cornerstone Pentecostal Church\, 4274 Wilkinson Rd\, Victoria\, BC\, Victoria\, BC\, V8Z 5B5\, Canada
ATTACH;FMTTYPE=image/png:https://www.cornerstonevictoria.com/wp-content/uploads/2022/06/Bread-Ministry-2.png
END:VEVENT
BEGIN:VEVENT
DTSTART;TZID=America/Vancouver:20260322T120000
DTEND;TZID=America/Vancouver:20260322T120000
DTSTAMP:20260422T040853
CREATED:20220628T093007Z
LAST-MODIFIED:20220628T093007Z
UID:4719-1774180800-1774180800@www.cornerstonevictoria.com
SUMMARY:Worship Service
DESCRIPTION:I was glad when they said unto me\, Let us go into the house of the Lord. Psalm 122:1
URL:https://www.cornerstonevictoria.com/event/sunday-worship-service-2026-03-22/
LOCATION:BC
ATTACH;FMTTYPE=image/png:https://www.cornerstonevictoria.com/wp-content/uploads/2022/06/Sunday-Service.png
END:VEVENT
BEGIN:VEVENT
DTSTART;TZID=America/Vancouver:20260324T193000
DTEND;TZID=America/Vancouver:20260324T193000
DTSTAMP:20260422T040853
CREATED:20220628T043850Z
LAST-MODIFIED:20220628T043850Z
UID:4703-1774380600-1774380600@www.cornerstonevictoria.com
SUMMARY:Bible classes for all ages
DESCRIPTION:This book of the law shall not depart out of thy mouth; but thou shalt meditate therein day and night\, that thou mayest observe to do according to all that is written therein: for then thou shalt make thy way prosperous\, and then thou shalt have good success. Joshua 1:8
URL:https://www.cornerstonevictoria.com/event/bible-study-2-2026-03-24/
LOCATION:Cornerstone Pentecostal Church\, 4274 Wilkinson Rd\, Victoria\, BC\, Victoria\, BC\, V8Z 5B5\, Canada
ATTACH;FMTTYPE=image/png:https://www.cornerstonevictoria.com/wp-content/uploads/2022/06/Bible-study-Cornerstone-Victoria.png
END:VEVENT
BEGIN:VEVENT
DTSTART;VALUE=DATE:20260327
DTEND;VALUE=DATE:20260328
DTSTAMP:20260422T040853
CREATED:20220629T140450Z
LAST-MODIFIED:20240506T013738Z
UID:5226-1774569600-1774655999@www.cornerstonevictoria.com
SUMMARY:Bread Ministry
DESCRIPTION:In addition to prayers and the word of God\, the mission of the bread ministry is to meet peoples’ needs through freshly baked bread provided in the church on a weekly basis every Friday evening. Feel free to stop by!
URL:https://www.cornerstonevictoria.com/event/bread-ministry-2023-2026-03-27/
LOCATION:Cornerstone Pentecostal Church\, 4274 Wilkinson Rd\, Victoria\, BC\, Victoria\, BC\, V8Z 5B5\, Canada
ATTACH;FMTTYPE=image/png:https://www.cornerstonevictoria.com/wp-content/uploads/2022/06/Bread-Ministry-2.png
END:VEVENT
BEGIN:VEVENT
DTSTART;TZID=America/Vancouver:20260329T120000
DTEND;TZID=America/Vancouver:20260329T120000
DTSTAMP:20260422T040853
CREATED:20220628T093007Z
LAST-MODIFIED:20220628T093007Z
UID:4720-1774785600-1774785600@www.cornerstonevictoria.com
SUMMARY:Worship Service
DESCRIPTION:I was glad when they said unto me\, Let us go into the house of the Lord. Psalm 122:1
URL:https://www.cornerstonevictoria.com/event/sunday-worship-service-2026-03-29/
LOCATION:BC
ATTACH;FMTTYPE=image/png:https://www.cornerstonevictoria.com/wp-content/uploads/2022/06/Sunday-Service.png
END:VEVENT
BEGIN:VEVENT
DTSTART;TZID=America/Vancouver:20260331T193000
DTEND;TZID=America/Vancouver:20260331T193000
DTSTAMP:20260422T040853
CREATED:20220628T043850Z
LAST-MODIFIED:20220628T043850Z
UID:4704-1774985400-1774985400@www.cornerstonevictoria.com
SUMMARY:Bible classes for all ages
DESCRIPTION:This book of the law shall not depart out of thy mouth; but thou shalt meditate therein day and night\, that thou mayest observe to do according to all that is written therein: for then thou shalt make thy way prosperous\, and then thou shalt have good success. Joshua 1:8
URL:https://www.cornerstonevictoria.com/event/bible-study-2-2026-03-31/
LOCATION:Cornerstone Pentecostal Church\, 4274 Wilkinson Rd\, Victoria\, BC\, Victoria\, BC\, V8Z 5B5\, Canada
ATTACH;FMTTYPE=image/png:https://www.cornerstonevictoria.com/wp-content/uploads/2022/06/Bible-study-Cornerstone-Victoria.png
END:VEVENT
BEGIN:VEVENT
DTSTART;VALUE=DATE:20260403
DTEND;VALUE=DATE:20260404
DTSTAMP:20260422T040853
CREATED:20220629T140450Z
LAST-MODIFIED:20240506T013738Z
UID:5227-1775174400-1775260799@www.cornerstonevictoria.com
SUMMARY:Bread Ministry
DESCRIPTION:In addition to prayers and the word of God\, the mission of the bread ministry is to meet peoples’ needs through freshly baked bread provided in the church on a weekly basis every Friday evening. Feel free to stop by!
URL:https://www.cornerstonevictoria.com/event/bread-ministry-2023-2026-04-03/
LOCATION:Cornerstone Pentecostal Church\, 4274 Wilkinson Rd\, Victoria\, BC\, Victoria\, BC\, V8Z 5B5\, Canada
ATTACH;FMTTYPE=image/png:https://www.cornerstonevictoria.com/wp-content/uploads/2022/06/Bread-Ministry-2.png
END:VEVENT
BEGIN:VEVENT
DTSTART;TZID=America/Vancouver:20260405T120000
DTEND;TZID=America/Vancouver:20260405T120000
DTSTAMP:20260422T040853
CREATED:20220628T093007Z
LAST-MODIFIED:20220628T093007Z
UID:4721-1775390400-1775390400@www.cornerstonevictoria.com
SUMMARY:Worship Service
DESCRIPTION:I was glad when they said unto me\, Let us go into the house of the Lord. Psalm 122:1
URL:https://www.cornerstonevictoria.com/event/sunday-worship-service-2026-04-05/
LOCATION:BC
ATTACH;FMTTYPE=image/png:https://www.cornerstonevictoria.com/wp-content/uploads/2022/06/Sunday-Service.png
END:VEVENT
BEGIN:VEVENT
DTSTART;TZID=America/Vancouver:20260407T193000
DTEND;TZID=America/Vancouver:20260407T193000
DTSTAMP:20260422T040853
CREATED:20220628T043850Z
LAST-MODIFIED:20220628T043850Z
UID:4705-1775590200-1775590200@www.cornerstonevictoria.com
SUMMARY:Bible classes for all ages
DESCRIPTION:This book of the law shall not depart out of thy mouth; but thou shalt meditate therein day and night\, that thou mayest observe to do according to all that is written therein: for then thou shalt make thy way prosperous\, and then thou shalt have good success. Joshua 1:8
URL:https://www.cornerstonevictoria.com/event/bible-study-2-2026-04-07/
LOCATION:Cornerstone Pentecostal Church\, 4274 Wilkinson Rd\, Victoria\, BC\, Victoria\, BC\, V8Z 5B5\, Canada
ATTACH;FMTTYPE=image/png:https://www.cornerstonevictoria.com/wp-content/uploads/2022/06/Bible-study-Cornerstone-Victoria.png
END:VEVENT
BEGIN:VEVENT
DTSTART;VALUE=DATE:20260410
DTEND;VALUE=DATE:20260411
DTSTAMP:20260422T040853
CREATED:20220629T140450Z
LAST-MODIFIED:20240506T013739Z
UID:5228-1775779200-1775865599@www.cornerstonevictoria.com
SUMMARY:Bread Ministry
DESCRIPTION:In addition to prayers and the word of God\, the mission of the bread ministry is to meet peoples’ needs through freshly baked bread provided in the church on a weekly basis every Friday evening. Feel free to stop by!
URL:https://www.cornerstonevictoria.com/event/bread-ministry-2023-2026-04-10/
LOCATION:Cornerstone Pentecostal Church\, 4274 Wilkinson Rd\, Victoria\, BC\, Victoria\, BC\, V8Z 5B5\, Canada
ATTACH;FMTTYPE=image/png:https://www.cornerstonevictoria.com/wp-content/uploads/2022/06/Bread-Ministry-2.png
END:VEVENT
BEGIN:VEVENT
DTSTART;TZID=America/Vancouver:20260412T120000
DTEND;TZID=America/Vancouver:20260412T120000
DTSTAMP:20260422T040853
CREATED:20220628T093007Z
LAST-MODIFIED:20220628T093007Z
UID:4722-1775995200-1775995200@www.cornerstonevictoria.com
SUMMARY:Worship Service
DESCRIPTION:I was glad when they said unto me\, Let us go into the house of the Lord. Psalm 122:1
URL:https://www.cornerstonevictoria.com/event/sunday-worship-service-2026-04-12/
LOCATION:BC
ATTACH;FMTTYPE=image/png:https://www.cornerstonevictoria.com/wp-content/uploads/2022/06/Sunday-Service.png
END:VEVENT
BEGIN:VEVENT
DTSTART;VALUE=DATE:20260417
DTEND;VALUE=DATE:20260418
DTSTAMP:20260422T040853
CREATED:20220629T140450Z
LAST-MODIFIED:20240506T013739Z
UID:5229-1776384000-1776470399@www.cornerstonevictoria.com
SUMMARY:Bread Ministry
DESCRIPTION:In addition to prayers and the word of God\, the mission of the bread ministry is to meet peoples’ needs through freshly baked bread provided in the church on a weekly basis every Friday evening. Feel free to stop by!
URL:https://www.cornerstonevictoria.com/event/bread-ministry-2023-2026-04-17/
LOCATION:Cornerstone Pentecostal Church\, 4274 Wilkinson Rd\, Victoria\, BC\, Victoria\, BC\, V8Z 5B5\, Canada
ATTACH;FMTTYPE=image/png:https://www.cornerstonevictoria.com/wp-content/uploads/2022/06/Bread-Ministry-2.png
END:VEVENT
BEGIN:VEVENT
DTSTART;TZID=America/Vancouver:20260419T120000
DTEND;TZID=America/Vancouver:20260419T120000
DTSTAMP:20260422T040853
CREATED:20220628T093007Z
LAST-MODIFIED:20220628T093007Z
UID:4723-1776600000-1776600000@www.cornerstonevictoria.com
SUMMARY:Worship Service
DESCRIPTION:I was glad when they said unto me\, Let us go into the house of the Lord. Psalm 122:1
URL:https://www.cornerstonevictoria.com/event/sunday-worship-service-2026-04-19/
LOCATION:BC
ATTACH;FMTTYPE=image/png:https://www.cornerstonevictoria.com/wp-content/uploads/2022/06/Sunday-Service.png
END:VEVENT
BEGIN:VEVENT
DTSTART;TZID=America/Vancouver:20260421T193000
DTEND;TZID=America/Vancouver:20260421T193000
DTSTAMP:20260422T040853
CREATED:20220628T043850Z
LAST-MODIFIED:20220628T043850Z
UID:4706-1776799800-1776799800@www.cornerstonevictoria.com
SUMMARY:Bible classes for all ages
DESCRIPTION:This book of the law shall not depart out of thy mouth; but thou shalt meditate therein day and night\, that thou mayest observe to do according to all that is written therein: for then thou shalt make thy way prosperous\, and then thou shalt have good success. Joshua 1:8
URL:https://www.cornerstonevictoria.com/event/bible-study-2-2026-04-21/
LOCATION:Cornerstone Pentecostal Church\, 4274 Wilkinson Rd\, Victoria\, BC\, Victoria\, BC\, V8Z 5B5\, Canada
ATTACH;FMTTYPE=image/png:https://www.cornerstonevictoria.com/wp-content/uploads/2022/06/Bible-study-Cornerstone-Victoria.png
END:VEVENT
BEGIN:VEVENT
DTSTART;VALUE=DATE:20260424
DTEND;VALUE=DATE:20260425
DTSTAMP:20260422T040853
CREATED:20220629T140450Z
LAST-MODIFIED:20240506T013739Z
UID:5230-1776988800-1777075199@www.cornerstonevictoria.com
SUMMARY:Bread Ministry
DESCRIPTION:In addition to prayers and the word of God\, the mission of the bread ministry is to meet peoples’ needs through freshly baked bread provided in the church on a weekly basis every Friday evening. Feel free to stop by!
URL:https://www.cornerstonevictoria.com/event/bread-ministry-2023-2026-04-24/
LOCATION:Cornerstone Pentecostal Church\, 4274 Wilkinson Rd\, Victoria\, BC\, Victoria\, BC\, V8Z 5B5\, Canada
ATTACH;FMTTYPE=image/png:https://www.cornerstonevictoria.com/wp-content/uploads/2022/06/Bread-Ministry-2.png
END:VEVENT
BEGIN:VEVENT
DTSTART;TZID=America/Vancouver:20260426T120000
DTEND;TZID=America/Vancouver:20260426T120000
DTSTAMP:20260422T040853
CREATED:20220628T093007Z
LAST-MODIFIED:20220628T093007Z
UID:4724-1777204800-1777204800@www.cornerstonevictoria.com
SUMMARY:Worship Service
DESCRIPTION:I was glad when they said unto me\, Let us go into the house of the Lord. Psalm 122:1
URL:https://www.cornerstonevictoria.com/event/sunday-worship-service-2026-04-26/
LOCATION:BC
ATTACH;FMTTYPE=image/png:https://www.cornerstonevictoria.com/wp-content/uploads/2022/06/Sunday-Service.png
END:VEVENT
BEGIN:VEVENT
DTSTART;TZID=America/Vancouver:20260428T193000
DTEND;TZID=America/Vancouver:20260428T193000
DTSTAMP:20260422T040853
CREATED:20220628T043850Z
LAST-MODIFIED:20220628T043850Z
UID:4707-1777404600-1777404600@www.cornerstonevictoria.com
SUMMARY:Bible classes for all ages
DESCRIPTION:This book of the law shall not depart out of thy mouth; but thou shalt meditate therein day and night\, that thou mayest observe to do according to all that is written therein: for then thou shalt make thy way prosperous\, and then thou shalt have good success. Joshua 1:8
URL:https://www.cornerstonevictoria.com/event/bible-study-2-2026-04-28/
LOCATION:Cornerstone Pentecostal Church\, 4274 Wilkinson Rd\, Victoria\, BC\, Victoria\, BC\, V8Z 5B5\, Canada
ATTACH;FMTTYPE=image/png:https://www.cornerstonevictoria.com/wp-content/uploads/2022/06/Bible-study-Cornerstone-Victoria.png
END:VEVENT
BEGIN:VEVENT
DTSTART;TZID=America/Vancouver:20260501T190000
DTEND;TZID=America/Vancouver:20260501T190000
DTSTAMP:20260422T040853
CREATED:20220629T140450Z
LAST-MODIFIED:20260202T024134Z
UID:5231-1777662000-1777662000@www.cornerstonevictoria.com
SUMMARY:Bread Ministry
DESCRIPTION:In addition to prayers and the word of God\, the mission of the bread ministry is to meet peoples’ needs through baked bread provided in the church on a weekly basis every Friday evening. Feel free to stop by!
URL:https://www.cornerstonevictoria.com/event/bread-ministry-2023-2026-05-01/
LOCATION:Cornerstone Pentecostal Church\, 4274 Wilkinson Rd\, Victoria\, BC\, Victoria\, BC\, V8Z 5B5\, Canada
ATTACH;FMTTYPE=image/png:https://www.cornerstonevictoria.com/wp-content/uploads/2022/06/Bread-Ministry-2.png
END:VEVENT
BEGIN:VEVENT
DTSTART;TZID=America/Vancouver:20260503T120000
DTEND;TZID=America/Vancouver:20260503T120000
DTSTAMP:20260422T040853
CREATED:20220628T093007Z
LAST-MODIFIED:20220628T093007Z
UID:4725-1777809600-1777809600@www.cornerstonevictoria.com
SUMMARY:Worship Service
DESCRIPTION:I was glad when they said unto me\, Let us go into the house of the Lord. Psalm 122:1
URL:https://www.cornerstonevictoria.com/event/sunday-worship-service-2026-05-03/
LOCATION:BC
ATTACH;FMTTYPE=image/png:https://www.cornerstonevictoria.com/wp-content/uploads/2022/06/Sunday-Service.png
END:VEVENT
END:VCALENDAR