BEGIN:VCALENDAR
VERSION:2.0
PRODID:-//Cornerstone - ECPv6.15.20//NONSGML v1.0//EN
CALSCALE:GREGORIAN
METHOD:PUBLISH
X-ORIGINAL-URL:https://www.cornerstonevictoria.com
X-WR-CALDESC:Events for Cornerstone
REFRESH-INTERVAL;VALUE=DURATION:PT1H
X-Robots-Tag:noindex
X-PUBLISHED-TTL:PT1H
BEGIN:VTIMEZONE
TZID:America/Vancouver
BEGIN:DAYLIGHT
TZOFFSETFROM:-0800
TZOFFSETTO:-0700
TZNAME:PDT
DTSTART:20220313T100000
END:DAYLIGHT
BEGIN:STANDARD
TZOFFSETFROM:-0700
TZOFFSETTO:-0800
TZNAME:PST
DTSTART:20221106T090000
END:STANDARD
BEGIN:DAYLIGHT
TZOFFSETFROM:-0800
TZOFFSETTO:-0700
TZNAME:PDT
DTSTART:20230312T100000
END:DAYLIGHT
BEGIN:STANDARD
TZOFFSETFROM:-0700
TZOFFSETTO:-0800
TZNAME:PST
DTSTART:20231105T090000
END:STANDARD
BEGIN:DAYLIGHT
TZOFFSETFROM:-0800
TZOFFSETTO:-0700
TZNAME:PDT
DTSTART:20240310T100000
END:DAYLIGHT
BEGIN:STANDARD
TZOFFSETFROM:-0700
TZOFFSETTO:-0800
TZNAME:PST
DTSTART:20241103T090000
END:STANDARD
END:VTIMEZONE
BEGIN:VEVENT
DTSTART;TZID=America/Vancouver:20231217T120000
DTEND;TZID=America/Vancouver:20231217T120000
DTSTAMP:20260420T032823
CREATED:20220628T093007Z
LAST-MODIFIED:20240104T232035Z
UID:2819-1702814400-1702814400@www.cornerstonevictoria.com
SUMMARY:Worship Service
DESCRIPTION:I was glad when they said unto me\, Let us go into the house of the Lord. Psalm 122:1
URL:https://www.cornerstonevictoria.com/event/sunday-worship-service-2023-12-17/
LOCATION:BC
ATTACH;FMTTYPE=image/png:https://www.cornerstonevictoria.com/wp-content/uploads/2022/06/Sunday-Service.png
END:VEVENT
BEGIN:VEVENT
DTSTART;TZID=America/Vancouver:20231210T120000
DTEND;TZID=America/Vancouver:20231210T120000
DTSTAMP:20260420T032823
CREATED:20220628T093007Z
LAST-MODIFIED:20240104T232035Z
UID:2818-1702209600-1702209600@www.cornerstonevictoria.com
SUMMARY:Worship Service
DESCRIPTION:I was glad when they said unto me\, Let us go into the house of the Lord. Psalm 122:1
URL:https://www.cornerstonevictoria.com/event/sunday-worship-service-2023-12-10/
LOCATION:BC
ATTACH;FMTTYPE=image/png:https://www.cornerstonevictoria.com/wp-content/uploads/2022/06/Sunday-Service.png
END:VEVENT
BEGIN:VEVENT
DTSTART;TZID=America/Vancouver:20231205T193000
DTEND;TZID=America/Vancouver:20231205T193000
DTSTAMP:20260420T032823
CREATED:20220628T043850Z
LAST-MODIFIED:20230113T044141Z
UID:3365-1701804600-1701804600@www.cornerstonevictoria.com
SUMMARY:Bible classes for all ages
DESCRIPTION:This book of the law shall not depart out of thy mouth; but thou shalt meditate therein day and night\, that thou mayest observe to do according to all that is written therein: for then thou shalt make thy way prosperous\, and then thou shalt have good success. Joshua 1:8
URL:https://www.cornerstonevictoria.com/event/bible-study-2-2023-12-05/
LOCATION:Cornerstone Pentecostal Church\, 4274 Wilkinson Rd\, Victoria\, BC\, Victoria\, BC\, V8Z 5B5\, Canada
ATTACH;FMTTYPE=image/png:https://www.cornerstonevictoria.com/wp-content/uploads/2022/06/Bible-study-Cornerstone-Victoria.png
END:VEVENT
BEGIN:VEVENT
DTSTART;TZID=America/Vancouver:20231203T120000
DTEND;TZID=America/Vancouver:20231203T120000
DTSTAMP:20260420T032823
CREATED:20220628T093007Z
LAST-MODIFIED:20240104T232035Z
UID:2817-1701604800-1701604800@www.cornerstonevictoria.com
SUMMARY:Worship Service
DESCRIPTION:I was glad when they said unto me\, Let us go into the house of the Lord. Psalm 122:1
URL:https://www.cornerstonevictoria.com/event/sunday-worship-service-2023-12-03/
LOCATION:BC
ATTACH;FMTTYPE=image/png:https://www.cornerstonevictoria.com/wp-content/uploads/2022/06/Sunday-Service.png
END:VEVENT
BEGIN:VEVENT
DTSTART;TZID=America/Vancouver:20231128T193000
DTEND;TZID=America/Vancouver:20231128T193000
DTSTAMP:20260420T032823
CREATED:20220628T043850Z
LAST-MODIFIED:20230113T044141Z
UID:3364-1701199800-1701199800@www.cornerstonevictoria.com
SUMMARY:Bible classes for all ages
DESCRIPTION:This book of the law shall not depart out of thy mouth; but thou shalt meditate therein day and night\, that thou mayest observe to do according to all that is written therein: for then thou shalt make thy way prosperous\, and then thou shalt have good success. Joshua 1:8
URL:https://www.cornerstonevictoria.com/event/bible-study-2-2023-11-28/
LOCATION:Cornerstone Pentecostal Church\, 4274 Wilkinson Rd\, Victoria\, BC\, Victoria\, BC\, V8Z 5B5\, Canada
ATTACH;FMTTYPE=image/png:https://www.cornerstonevictoria.com/wp-content/uploads/2022/06/Bible-study-Cornerstone-Victoria.png
END:VEVENT
BEGIN:VEVENT
DTSTART;TZID=America/Vancouver:20231126T120000
DTEND;TZID=America/Vancouver:20231126T120000
DTSTAMP:20260420T032823
CREATED:20220628T093007Z
LAST-MODIFIED:20240104T232035Z
UID:2816-1701000000-1701000000@www.cornerstonevictoria.com
SUMMARY:Worship Service
DESCRIPTION:I was glad when they said unto me\, Let us go into the house of the Lord. Psalm 122:1
URL:https://www.cornerstonevictoria.com/event/sunday-worship-service-2023-11-26/
LOCATION:BC
ATTACH;FMTTYPE=image/png:https://www.cornerstonevictoria.com/wp-content/uploads/2022/06/Sunday-Service.png
END:VEVENT
BEGIN:VEVENT
DTSTART;TZID=America/Vancouver:20231121T193000
DTEND;TZID=America/Vancouver:20231121T193000
DTSTAMP:20260420T032823
CREATED:20220628T043850Z
LAST-MODIFIED:20231105T041836Z
UID:3410-1700595000-1700595000@www.cornerstonevictoria.com
SUMMARY:Bible classes for all ages
DESCRIPTION:This book of the law shall not depart out of thy mouth; but thou shalt meditate therein day and night\, that thou mayest observe to do according to all that is written therein: for then thou shalt make thy way prosperous\, and then thou shalt have good success. Joshua 1:8
URL:https://www.cornerstonevictoria.com/event/bible-study-2-2023-11-21/
LOCATION:Cornerstone Pentecostal Church\, 4274 Wilkinson Rd\, Victoria\, BC\, Victoria\, BC\, V8Z 5B5\, Canada
ATTACH;FMTTYPE=image/png:https://www.cornerstonevictoria.com/wp-content/uploads/2022/06/Bible-study-Cornerstone-Victoria.png
END:VEVENT
BEGIN:VEVENT
DTSTART;TZID=America/Vancouver:20231119T120000
DTEND;TZID=America/Vancouver:20231119T120000
DTSTAMP:20260420T032823
CREATED:20220628T093007Z
LAST-MODIFIED:20240104T232035Z
UID:2815-1700395200-1700395200@www.cornerstonevictoria.com
SUMMARY:Worship Service
DESCRIPTION:I was glad when they said unto me\, Let us go into the house of the Lord. Psalm 122:1
URL:https://www.cornerstonevictoria.com/event/sunday-worship-service-2023-11-19/
LOCATION:BC
ATTACH;FMTTYPE=image/png:https://www.cornerstonevictoria.com/wp-content/uploads/2022/06/Sunday-Service.png
END:VEVENT
BEGIN:VEVENT
DTSTART;TZID=America/Vancouver:20231112T120000
DTEND;TZID=America/Vancouver:20231112T120000
DTSTAMP:20260420T032823
CREATED:20220628T093007Z
LAST-MODIFIED:20240104T232035Z
UID:2814-1699790400-1699790400@www.cornerstonevictoria.com
SUMMARY:Worship Service
DESCRIPTION:I was glad when they said unto me\, Let us go into the house of the Lord. Psalm 122:1
URL:https://www.cornerstonevictoria.com/event/sunday-worship-service-2023-11-12/
LOCATION:BC
ATTACH;FMTTYPE=image/png:https://www.cornerstonevictoria.com/wp-content/uploads/2022/06/Sunday-Service.png
END:VEVENT
BEGIN:VEVENT
DTSTART;TZID=America/Vancouver:20231107T193000
DTEND;TZID=America/Vancouver:20231107T193000
DTSTAMP:20260420T032823
CREATED:20220628T043850Z
LAST-MODIFIED:20230113T044141Z
UID:3362-1699385400-1699385400@www.cornerstonevictoria.com
SUMMARY:Bible classes for all ages
DESCRIPTION:This book of the law shall not depart out of thy mouth; but thou shalt meditate therein day and night\, that thou mayest observe to do according to all that is written therein: for then thou shalt make thy way prosperous\, and then thou shalt have good success. Joshua 1:8
URL:https://www.cornerstonevictoria.com/event/bible-study-2-2023-11-07/
LOCATION:Cornerstone Pentecostal Church\, 4274 Wilkinson Rd\, Victoria\, BC\, Victoria\, BC\, V8Z 5B5\, Canada
ATTACH;FMTTYPE=image/png:https://www.cornerstonevictoria.com/wp-content/uploads/2022/06/Bible-study-Cornerstone-Victoria.png
END:VEVENT
BEGIN:VEVENT
DTSTART;TZID=America/Vancouver:20231105T120000
DTEND;TZID=America/Vancouver:20231105T120000
DTSTAMP:20260420T032823
CREATED:20220628T093007Z
LAST-MODIFIED:20240104T232035Z
UID:2813-1699185600-1699185600@www.cornerstonevictoria.com
SUMMARY:Worship Service
DESCRIPTION:I was glad when they said unto me\, Let us go into the house of the Lord. Psalm 122:1
URL:https://www.cornerstonevictoria.com/event/sunday-worship-service-2023-11-05/
LOCATION:BC
ATTACH;FMTTYPE=image/png:https://www.cornerstonevictoria.com/wp-content/uploads/2022/06/Sunday-Service.png
END:VEVENT
BEGIN:VEVENT
DTSTART;TZID=America/Vancouver:20231031T193000
DTEND;TZID=America/Vancouver:20231031T193000
DTSTAMP:20260420T032823
CREATED:20220628T043850Z
LAST-MODIFIED:20231010T095621Z
UID:3409-1698780600-1698780600@www.cornerstonevictoria.com
SUMMARY:Bible classes for all ages
DESCRIPTION:This book of the law shall not depart out of thy mouth; but thou shalt meditate therein day and night\, that thou mayest observe to do according to all that is written therein: for then thou shalt make thy way prosperous\, and then thou shalt have good success. Joshua 1:8
URL:https://www.cornerstonevictoria.com/event/bible-study-2-2023-10-31/
LOCATION:Cornerstone Pentecostal Church\, 4274 Wilkinson Rd\, Victoria\, BC\, Victoria\, BC\, V8Z 5B5\, Canada
ATTACH;FMTTYPE=image/png:https://www.cornerstonevictoria.com/wp-content/uploads/2022/06/Bible-study-Cornerstone-Victoria.png
END:VEVENT
BEGIN:VEVENT
DTSTART;TZID=America/Vancouver:20231029T120000
DTEND;TZID=America/Vancouver:20231029T120000
DTSTAMP:20260420T032823
CREATED:20220628T093007Z
LAST-MODIFIED:20240104T232035Z
UID:2812-1698580800-1698580800@www.cornerstonevictoria.com
SUMMARY:Worship Service
DESCRIPTION:I was glad when they said unto me\, Let us go into the house of the Lord. Psalm 122:1
URL:https://www.cornerstonevictoria.com/event/sunday-worship-service-2023-10-29/
LOCATION:BC
ATTACH;FMTTYPE=image/png:https://www.cornerstonevictoria.com/wp-content/uploads/2022/06/Sunday-Service.png
END:VEVENT
BEGIN:VEVENT
DTSTART;TZID=America/Vancouver:20231024T193000
DTEND;TZID=America/Vancouver:20231024T193000
DTSTAMP:20260420T032823
CREATED:20220628T043850Z
LAST-MODIFIED:20231010T095620Z
UID:3361-1698175800-1698175800@www.cornerstonevictoria.com
SUMMARY:Bible classes for all ages
DESCRIPTION:This book of the law shall not depart out of thy mouth; but thou shalt meditate therein day and night\, that thou mayest observe to do according to all that is written therein: for then thou shalt make thy way prosperous\, and then thou shalt have good success. Joshua 1:8
URL:https://www.cornerstonevictoria.com/event/bible-study-2-2023-10-24/
LOCATION:Cornerstone Pentecostal Church\, 4274 Wilkinson Rd\, Victoria\, BC\, Victoria\, BC\, V8Z 5B5\, Canada
ATTACH;FMTTYPE=image/png:https://www.cornerstonevictoria.com/wp-content/uploads/2022/06/Bible-study-Cornerstone-Victoria.png
END:VEVENT
BEGIN:VEVENT
DTSTART;TZID=America/Vancouver:20231022T120000
DTEND;TZID=America/Vancouver:20231022T120000
DTSTAMP:20260420T032823
CREATED:20220628T093007Z
LAST-MODIFIED:20240104T232035Z
UID:2811-1697976000-1697976000@www.cornerstonevictoria.com
SUMMARY:Worship Service
DESCRIPTION:I was glad when they said unto me\, Let us go into the house of the Lord. Psalm 122:1
URL:https://www.cornerstonevictoria.com/event/sunday-worship-service-2023-10-22/
LOCATION:BC
ATTACH;FMTTYPE=image/png:https://www.cornerstonevictoria.com/wp-content/uploads/2022/06/Sunday-Service.png
END:VEVENT
BEGIN:VEVENT
DTSTART;TZID=America/Vancouver:20231017T193000
DTEND;TZID=America/Vancouver:20231017T193000
DTSTAMP:20260420T032823
CREATED:20220628T043850Z
LAST-MODIFIED:20230113T044141Z
UID:3360-1697571000-1697571000@www.cornerstonevictoria.com
SUMMARY:Bible classes for all ages
DESCRIPTION:This book of the law shall not depart out of thy mouth; but thou shalt meditate therein day and night\, that thou mayest observe to do according to all that is written therein: for then thou shalt make thy way prosperous\, and then thou shalt have good success. Joshua 1:8
URL:https://www.cornerstonevictoria.com/event/bible-study-2-2023-10-17/
LOCATION:Cornerstone Pentecostal Church\, 4274 Wilkinson Rd\, Victoria\, BC\, Victoria\, BC\, V8Z 5B5\, Canada
ATTACH;FMTTYPE=image/png:https://www.cornerstonevictoria.com/wp-content/uploads/2022/06/Bible-study-Cornerstone-Victoria.png
END:VEVENT
BEGIN:VEVENT
DTSTART;TZID=America/Vancouver:20231015T120000
DTEND;TZID=America/Vancouver:20231015T120000
DTSTAMP:20260420T032823
CREATED:20220628T093007Z
LAST-MODIFIED:20240104T232035Z
UID:2810-1697371200-1697371200@www.cornerstonevictoria.com
SUMMARY:Worship Service
DESCRIPTION:I was glad when they said unto me\, Let us go into the house of the Lord. Psalm 122:1
URL:https://www.cornerstonevictoria.com/event/sunday-worship-service-2023-10-15/
LOCATION:BC
ATTACH;FMTTYPE=image/png:https://www.cornerstonevictoria.com/wp-content/uploads/2022/06/Sunday-Service.png
END:VEVENT
BEGIN:VEVENT
DTSTART;TZID=America/Vancouver:20231008T120000
DTEND;TZID=America/Vancouver:20231008T120000
DTSTAMP:20260420T032823
CREATED:20220628T093007Z
LAST-MODIFIED:20240104T232034Z
UID:2809-1696766400-1696766400@www.cornerstonevictoria.com
SUMMARY:Worship Service
DESCRIPTION:I was glad when they said unto me\, Let us go into the house of the Lord. Psalm 122:1
URL:https://www.cornerstonevictoria.com/event/sunday-worship-service-2023-10-08/
LOCATION:BC
ATTACH;FMTTYPE=image/png:https://www.cornerstonevictoria.com/wp-content/uploads/2022/06/Sunday-Service.png
END:VEVENT
BEGIN:VEVENT
DTSTART;TZID=America/Vancouver:20231003T193000
DTEND;TZID=America/Vancouver:20231003T193000
DTSTAMP:20260420T032823
CREATED:20220628T043850Z
LAST-MODIFIED:20230113T044141Z
UID:3359-1696361400-1696361400@www.cornerstonevictoria.com
SUMMARY:Bible classes for all ages
DESCRIPTION:This book of the law shall not depart out of thy mouth; but thou shalt meditate therein day and night\, that thou mayest observe to do according to all that is written therein: for then thou shalt make thy way prosperous\, and then thou shalt have good success. Joshua 1:8
URL:https://www.cornerstonevictoria.com/event/bible-study-2-2023-10-03/
LOCATION:Cornerstone Pentecostal Church\, 4274 Wilkinson Rd\, Victoria\, BC\, Victoria\, BC\, V8Z 5B5\, Canada
ATTACH;FMTTYPE=image/png:https://www.cornerstonevictoria.com/wp-content/uploads/2022/06/Bible-study-Cornerstone-Victoria.png
END:VEVENT
BEGIN:VEVENT
DTSTART;TZID=America/Vancouver:20231001T120000
DTEND;TZID=America/Vancouver:20231001T120000
DTSTAMP:20260420T032823
CREATED:20220628T093007Z
LAST-MODIFIED:20240104T232034Z
UID:2808-1696161600-1696161600@www.cornerstonevictoria.com
SUMMARY:Worship Service
DESCRIPTION:I was glad when they said unto me\, Let us go into the house of the Lord. Psalm 122:1
URL:https://www.cornerstonevictoria.com/event/sunday-worship-service-2023-10-01/
LOCATION:BC
ATTACH;FMTTYPE=image/png:https://www.cornerstonevictoria.com/wp-content/uploads/2022/06/Sunday-Service.png
END:VEVENT
BEGIN:VEVENT
DTSTART;TZID=America/Vancouver:20230926T193000
DTEND;TZID=America/Vancouver:20230926T193000
DTSTAMP:20260420T032823
CREATED:20220628T043850Z
LAST-MODIFIED:20230113T044140Z
UID:3358-1695756600-1695756600@www.cornerstonevictoria.com
SUMMARY:Bible classes for all ages
DESCRIPTION:This book of the law shall not depart out of thy mouth; but thou shalt meditate therein day and night\, that thou mayest observe to do according to all that is written therein: for then thou shalt make thy way prosperous\, and then thou shalt have good success. Joshua 1:8
URL:https://www.cornerstonevictoria.com/event/bible-study-2-2023-09-26/
LOCATION:Cornerstone Pentecostal Church\, 4274 Wilkinson Rd\, Victoria\, BC\, Victoria\, BC\, V8Z 5B5\, Canada
ATTACH;FMTTYPE=image/png:https://www.cornerstonevictoria.com/wp-content/uploads/2022/06/Bible-study-Cornerstone-Victoria.png
END:VEVENT
BEGIN:VEVENT
DTSTART;TZID=America/Vancouver:20230924T120000
DTEND;TZID=America/Vancouver:20230924T120000
DTSTAMP:20260420T032823
CREATED:20220628T093007Z
LAST-MODIFIED:20240104T232034Z
UID:2807-1695556800-1695556800@www.cornerstonevictoria.com
SUMMARY:Worship Service
DESCRIPTION:I was glad when they said unto me\, Let us go into the house of the Lord. Psalm 122:1
URL:https://www.cornerstonevictoria.com/event/sunday-worship-service-2023-09-24/
LOCATION:BC
ATTACH;FMTTYPE=image/png:https://www.cornerstonevictoria.com/wp-content/uploads/2022/06/Sunday-Service.png
END:VEVENT
BEGIN:VEVENT
DTSTART;TZID=America/Vancouver:20230919T193000
DTEND;TZID=America/Vancouver:20230919T193000
DTSTAMP:20260420T032823
CREATED:20220628T043850Z
LAST-MODIFIED:20230113T044140Z
UID:3408-1695151800-1695151800@www.cornerstonevictoria.com
SUMMARY:Bible classes for all ages
DESCRIPTION:This book of the law shall not depart out of thy mouth; but thou shalt meditate therein day and night\, that thou mayest observe to do according to all that is written therein: for then thou shalt make thy way prosperous\, and then thou shalt have good success. Joshua 1:8
URL:https://www.cornerstonevictoria.com/event/bible-study-2-2023-09-19/
LOCATION:Cornerstone Pentecostal Church\, 4274 Wilkinson Rd\, Victoria\, BC\, Victoria\, BC\, V8Z 5B5\, Canada
ATTACH;FMTTYPE=image/png:https://www.cornerstonevictoria.com/wp-content/uploads/2022/06/Bible-study-Cornerstone-Victoria.png
END:VEVENT
BEGIN:VEVENT
DTSTART;TZID=America/Vancouver:20230917T120000
DTEND;TZID=America/Vancouver:20230917T120000
DTSTAMP:20260420T032823
CREATED:20220628T093007Z
LAST-MODIFIED:20240104T232034Z
UID:2806-1694952000-1694952000@www.cornerstonevictoria.com
SUMMARY:Worship Service
DESCRIPTION:I was glad when they said unto me\, Let us go into the house of the Lord. Psalm 122:1
URL:https://www.cornerstonevictoria.com/event/sunday-worship-service-2023-09-17/
LOCATION:BC
ATTACH;FMTTYPE=image/png:https://www.cornerstonevictoria.com/wp-content/uploads/2022/06/Sunday-Service.png
END:VEVENT
BEGIN:VEVENT
DTSTART;TZID=America/Vancouver:20230910T120000
DTEND;TZID=America/Vancouver:20230910T120000
DTSTAMP:20260420T032823
CREATED:20220628T093007Z
LAST-MODIFIED:20240104T232034Z
UID:2805-1694347200-1694347200@www.cornerstonevictoria.com
SUMMARY:Worship Service
DESCRIPTION:I was glad when they said unto me\, Let us go into the house of the Lord. Psalm 122:1
URL:https://www.cornerstonevictoria.com/event/sunday-worship-service-2023-09-10/
LOCATION:BC
ATTACH;FMTTYPE=image/png:https://www.cornerstonevictoria.com/wp-content/uploads/2022/06/Sunday-Service.png
END:VEVENT
BEGIN:VEVENT
DTSTART;TZID=America/Vancouver:20230905T193000
DTEND;TZID=America/Vancouver:20230905T193000
DTSTAMP:20260420T032823
CREATED:20220628T043850Z
LAST-MODIFIED:20230817T040056Z
UID:3356-1693942200-1693942200@www.cornerstonevictoria.com
SUMMARY:Bible classes for all ages
DESCRIPTION:This book of the law shall not depart out of thy mouth; but thou shalt meditate therein day and night\, that thou mayest observe to do according to all that is written therein: for then thou shalt make thy way prosperous\, and then thou shalt have good success. Joshua 1:8
URL:https://www.cornerstonevictoria.com/event/bible-study-2-2023-09-05/
LOCATION:Cornerstone Pentecostal Church\, 4274 Wilkinson Rd\, Victoria\, BC\, Victoria\, BC\, V8Z 5B5\, Canada
ATTACH;FMTTYPE=image/png:https://www.cornerstonevictoria.com/wp-content/uploads/2022/06/Bible-study-Cornerstone-Victoria.png
END:VEVENT
BEGIN:VEVENT
DTSTART;TZID=America/Vancouver:20230903T120000
DTEND;TZID=America/Vancouver:20230903T120000
DTSTAMP:20260420T032823
CREATED:20220628T093007Z
LAST-MODIFIED:20240104T232034Z
UID:2804-1693742400-1693742400@www.cornerstonevictoria.com
SUMMARY:Worship Service
DESCRIPTION:I was glad when they said unto me\, Let us go into the house of the Lord. Psalm 122:1
URL:https://www.cornerstonevictoria.com/event/sunday-worship-service-2023-09-03/
LOCATION:BC
ATTACH;FMTTYPE=image/png:https://www.cornerstonevictoria.com/wp-content/uploads/2022/06/Sunday-Service.png
END:VEVENT
BEGIN:VEVENT
DTSTART;TZID=America/Vancouver:20230829T193000
DTEND;TZID=America/Vancouver:20230829T193000
DTSTAMP:20260420T032823
CREATED:20220628T043850Z
LAST-MODIFIED:20230113T044139Z
UID:3407-1693337400-1693337400@www.cornerstonevictoria.com
SUMMARY:Bible classes for all ages
DESCRIPTION:This book of the law shall not depart out of thy mouth; but thou shalt meditate therein day and night\, that thou mayest observe to do according to all that is written therein: for then thou shalt make thy way prosperous\, and then thou shalt have good success. Joshua 1:8
URL:https://www.cornerstonevictoria.com/event/bible-study-2-2023-08-29/
LOCATION:Cornerstone Pentecostal Church\, 4274 Wilkinson Rd\, Victoria\, BC\, Victoria\, BC\, V8Z 5B5\, Canada
ATTACH;FMTTYPE=image/png:https://www.cornerstonevictoria.com/wp-content/uploads/2022/06/Bible-study-Cornerstone-Victoria.png
END:VEVENT
BEGIN:VEVENT
DTSTART;TZID=America/Vancouver:20230827T120000
DTEND;TZID=America/Vancouver:20230827T120000
DTSTAMP:20260420T032823
CREATED:20220628T093007Z
LAST-MODIFIED:20240104T232034Z
UID:2803-1693137600-1693137600@www.cornerstonevictoria.com
SUMMARY:Worship Service
DESCRIPTION:I was glad when they said unto me\, Let us go into the house of the Lord. Psalm 122:1
URL:https://www.cornerstonevictoria.com/event/sunday-worship-service-2023-08-27/
LOCATION:BC
ATTACH;FMTTYPE=image/png:https://www.cornerstonevictoria.com/wp-content/uploads/2022/06/Sunday-Service.png
END:VEVENT
BEGIN:VEVENT
DTSTART;TZID=America/Vancouver:20230822T193000
DTEND;TZID=America/Vancouver:20230822T193000
DTSTAMP:20260420T032823
CREATED:20220628T043850Z
LAST-MODIFIED:20230731T195641Z
UID:3355-1692732600-1692732600@www.cornerstonevictoria.com
SUMMARY:Bible classes for all ages
DESCRIPTION:This book of the law shall not depart out of thy mouth; but thou shalt meditate therein day and night\, that thou mayest observe to do according to all that is written therein: for then thou shalt make thy way prosperous\, and then thou shalt have good success. Joshua 1:8
URL:https://www.cornerstonevictoria.com/event/bible-study-2-2023-08-22/
LOCATION:Cornerstone Pentecostal Church\, 4274 Wilkinson Rd\, Victoria\, BC\, Victoria\, BC\, V8Z 5B5\, Canada
ATTACH;FMTTYPE=image/png:https://www.cornerstonevictoria.com/wp-content/uploads/2022/06/Bible-study-Cornerstone-Victoria.png
END:VEVENT
END:VCALENDAR