BEGIN:VCALENDAR
VERSION:2.0
PRODID:-//Cornerstone - ECPv6.15.20//NONSGML v1.0//EN
CALSCALE:GREGORIAN
METHOD:PUBLISH
X-ORIGINAL-URL:https://www.cornerstonevictoria.com
X-WR-CALDESC:Events for Cornerstone
REFRESH-INTERVAL;VALUE=DURATION:PT1H
X-Robots-Tag:noindex
X-PUBLISHED-TTL:PT1H
BEGIN:VTIMEZONE
TZID:America/Vancouver
BEGIN:DAYLIGHT
TZOFFSETFROM:-0800
TZOFFSETTO:-0700
TZNAME:PDT
DTSTART:20220313T100000
END:DAYLIGHT
BEGIN:STANDARD
TZOFFSETFROM:-0700
TZOFFSETTO:-0800
TZNAME:PST
DTSTART:20221106T090000
END:STANDARD
BEGIN:DAYLIGHT
TZOFFSETFROM:-0800
TZOFFSETTO:-0700
TZNAME:PDT
DTSTART:20230312T100000
END:DAYLIGHT
BEGIN:STANDARD
TZOFFSETFROM:-0700
TZOFFSETTO:-0800
TZNAME:PST
DTSTART:20231105T090000
END:STANDARD
BEGIN:DAYLIGHT
TZOFFSETFROM:-0800
TZOFFSETTO:-0700
TZNAME:PDT
DTSTART:20240310T100000
END:DAYLIGHT
BEGIN:STANDARD
TZOFFSETFROM:-0700
TZOFFSETTO:-0800
TZNAME:PST
DTSTART:20241103T090000
END:STANDARD
END:VTIMEZONE
BEGIN:VEVENT
DTSTART;TZID=America/Vancouver:20230709T120000
DTEND;TZID=America/Vancouver:20230709T120000
DTSTAMP:20260420T103408
CREATED:20220628T093007Z
LAST-MODIFIED:20240104T232033Z
UID:2796-1688904000-1688904000@www.cornerstonevictoria.com
SUMMARY:Worship Service
DESCRIPTION:I was glad when they said unto me\, Let us go into the house of the Lord. Psalm 122:1
URL:https://www.cornerstonevictoria.com/event/sunday-worship-service-2023-07-09/
LOCATION:BC
ATTACH;FMTTYPE=image/png:https://www.cornerstonevictoria.com/wp-content/uploads/2022/06/Sunday-Service.png
END:VEVENT
BEGIN:VEVENT
DTSTART;TZID=America/Vancouver:20230704T193000
DTEND;TZID=America/Vancouver:20230704T193000
DTSTAMP:20260420T103408
CREATED:20220628T043850Z
LAST-MODIFIED:20230113T044139Z
UID:3350-1688499000-1688499000@www.cornerstonevictoria.com
SUMMARY:Bible classes for all ages
DESCRIPTION:This book of the law shall not depart out of thy mouth; but thou shalt meditate therein day and night\, that thou mayest observe to do according to all that is written therein: for then thou shalt make thy way prosperous\, and then thou shalt have good success. Joshua 1:8
URL:https://www.cornerstonevictoria.com/event/bible-study-2-2023-07-04/
LOCATION:Cornerstone Pentecostal Church\, 4274 Wilkinson Rd\, Victoria\, BC\, Victoria\, BC\, V8Z 5B5\, Canada
ATTACH;FMTTYPE=image/png:https://www.cornerstonevictoria.com/wp-content/uploads/2022/06/Bible-study-Cornerstone-Victoria.png
END:VEVENT
BEGIN:VEVENT
DTSTART;TZID=America/Vancouver:20230702T120000
DTEND;TZID=America/Vancouver:20230702T120000
DTSTAMP:20260420T103408
CREATED:20220628T093007Z
LAST-MODIFIED:20240104T232033Z
UID:2795-1688299200-1688299200@www.cornerstonevictoria.com
SUMMARY:Worship Service
DESCRIPTION:I was glad when they said unto me\, Let us go into the house of the Lord. Psalm 122:1
URL:https://www.cornerstonevictoria.com/event/sunday-worship-service-2023-07-02/
LOCATION:BC
ATTACH;FMTTYPE=image/png:https://www.cornerstonevictoria.com/wp-content/uploads/2022/06/Sunday-Service.png
END:VEVENT
BEGIN:VEVENT
DTSTART;TZID=America/Vancouver:20230627T193000
DTEND;TZID=America/Vancouver:20230627T193000
DTSTAMP:20260420T103408
CREATED:20220628T043850Z
LAST-MODIFIED:20230113T044139Z
UID:3405-1687894200-1687894200@www.cornerstonevictoria.com
SUMMARY:Bible classes for all ages
DESCRIPTION:This book of the law shall not depart out of thy mouth; but thou shalt meditate therein day and night\, that thou mayest observe to do according to all that is written therein: for then thou shalt make thy way prosperous\, and then thou shalt have good success. Joshua 1:8
URL:https://www.cornerstonevictoria.com/event/bible-study-2-2023-06-27/
LOCATION:Cornerstone Pentecostal Church\, 4274 Wilkinson Rd\, Victoria\, BC\, Victoria\, BC\, V8Z 5B5\, Canada
ATTACH;FMTTYPE=image/png:https://www.cornerstonevictoria.com/wp-content/uploads/2022/06/Bible-study-Cornerstone-Victoria.png
END:VEVENT
BEGIN:VEVENT
DTSTART;TZID=America/Vancouver:20230625T120000
DTEND;TZID=America/Vancouver:20230625T120000
DTSTAMP:20260420T103408
CREATED:20220628T093007Z
LAST-MODIFIED:20240104T232033Z
UID:2794-1687694400-1687694400@www.cornerstonevictoria.com
SUMMARY:Worship Service
DESCRIPTION:I was glad when they said unto me\, Let us go into the house of the Lord. Psalm 122:1
URL:https://www.cornerstonevictoria.com/event/sunday-worship-service-2023-06-25/
LOCATION:BC
ATTACH;FMTTYPE=image/png:https://www.cornerstonevictoria.com/wp-content/uploads/2022/06/Sunday-Service.png
END:VEVENT
BEGIN:VEVENT
DTSTART;TZID=America/Vancouver:20230620T193000
DTEND;TZID=America/Vancouver:20230620T193000
DTSTAMP:20260420T103408
CREATED:20220628T043850Z
LAST-MODIFIED:20230113T044138Z
UID:3349-1687289400-1687289400@www.cornerstonevictoria.com
SUMMARY:Bible classes for all ages
DESCRIPTION:This book of the law shall not depart out of thy mouth; but thou shalt meditate therein day and night\, that thou mayest observe to do according to all that is written therein: for then thou shalt make thy way prosperous\, and then thou shalt have good success. Joshua 1:8
URL:https://www.cornerstonevictoria.com/event/bible-study-2-2023-06-20/
LOCATION:Cornerstone Pentecostal Church\, 4274 Wilkinson Rd\, Victoria\, BC\, Victoria\, BC\, V8Z 5B5\, Canada
ATTACH;FMTTYPE=image/png:https://www.cornerstonevictoria.com/wp-content/uploads/2022/06/Bible-study-Cornerstone-Victoria.png
END:VEVENT
BEGIN:VEVENT
DTSTART;TZID=America/Vancouver:20230618T120000
DTEND;TZID=America/Vancouver:20230618T120000
DTSTAMP:20260420T103408
CREATED:20220628T093007Z
LAST-MODIFIED:20240104T232033Z
UID:2793-1687089600-1687089600@www.cornerstonevictoria.com
SUMMARY:Worship Service
DESCRIPTION:I was glad when they said unto me\, Let us go into the house of the Lord. Psalm 122:1
URL:https://www.cornerstonevictoria.com/event/sunday-worship-service-2023-06-18/
LOCATION:BC
ATTACH;FMTTYPE=image/png:https://www.cornerstonevictoria.com/wp-content/uploads/2022/06/Sunday-Service.png
END:VEVENT
BEGIN:VEVENT
DTSTART;TZID=America/Vancouver:20230611T120000
DTEND;TZID=America/Vancouver:20230611T120000
DTSTAMP:20260420T103408
CREATED:20220628T093007Z
LAST-MODIFIED:20240104T232033Z
UID:2792-1686484800-1686484800@www.cornerstonevictoria.com
SUMMARY:Worship Service
DESCRIPTION:I was glad when they said unto me\, Let us go into the house of the Lord. Psalm 122:1
URL:https://www.cornerstonevictoria.com/event/sunday-worship-service-2023-06-11/
LOCATION:BC
ATTACH;FMTTYPE=image/png:https://www.cornerstonevictoria.com/wp-content/uploads/2022/06/Sunday-Service.png
END:VEVENT
BEGIN:VEVENT
DTSTART;TZID=America/Vancouver:20230606T193000
DTEND;TZID=America/Vancouver:20230606T193000
DTSTAMP:20260420T103408
CREATED:20220628T043850Z
LAST-MODIFIED:20230529T115827Z
UID:3404-1686079800-1686079800@www.cornerstonevictoria.com
SUMMARY:Bible classes for all ages
DESCRIPTION:This book of the law shall not depart out of thy mouth; but thou shalt meditate therein day and night\, that thou mayest observe to do according to all that is written therein: for then thou shalt make thy way prosperous\, and then thou shalt have good success. Joshua 1:8
URL:https://www.cornerstonevictoria.com/event/bible-study-2-2023-06-06/
LOCATION:Cornerstone Pentecostal Church\, 4274 Wilkinson Rd\, Victoria\, BC\, Victoria\, BC\, V8Z 5B5\, Canada
ATTACH;FMTTYPE=image/png:https://www.cornerstonevictoria.com/wp-content/uploads/2022/06/Bible-study-Cornerstone-Victoria.png
END:VEVENT
BEGIN:VEVENT
DTSTART;TZID=America/Vancouver:20230604T120000
DTEND;TZID=America/Vancouver:20230604T120000
DTSTAMP:20260420T103408
CREATED:20220628T093007Z
LAST-MODIFIED:20240104T232033Z
UID:2791-1685880000-1685880000@www.cornerstonevictoria.com
SUMMARY:Worship Service
DESCRIPTION:I was glad when they said unto me\, Let us go into the house of the Lord. Psalm 122:1
URL:https://www.cornerstonevictoria.com/event/sunday-worship-service-2023-06-04/
LOCATION:BC
ATTACH;FMTTYPE=image/png:https://www.cornerstonevictoria.com/wp-content/uploads/2022/06/Sunday-Service.png
END:VEVENT
BEGIN:VEVENT
DTSTART;TZID=America/Vancouver:20230530T193000
DTEND;TZID=America/Vancouver:20230530T193000
DTSTAMP:20260420T103408
CREATED:20220628T043850Z
LAST-MODIFIED:20230113T044137Z
UID:3347-1685475000-1685475000@www.cornerstonevictoria.com
SUMMARY:Bible classes for all ages
DESCRIPTION:This book of the law shall not depart out of thy mouth; but thou shalt meditate therein day and night\, that thou mayest observe to do according to all that is written therein: for then thou shalt make thy way prosperous\, and then thou shalt have good success. Joshua 1:8
URL:https://www.cornerstonevictoria.com/event/bible-study-2-2023-05-30/
LOCATION:Cornerstone Pentecostal Church\, 4274 Wilkinson Rd\, Victoria\, BC\, Victoria\, BC\, V8Z 5B5\, Canada
ATTACH;FMTTYPE=image/png:https://www.cornerstonevictoria.com/wp-content/uploads/2022/06/Bible-study-Cornerstone-Victoria.png
END:VEVENT
BEGIN:VEVENT
DTSTART;TZID=America/Vancouver:20230528T120000
DTEND;TZID=America/Vancouver:20230528T120000
DTSTAMP:20260420T103408
CREATED:20220628T093007Z
LAST-MODIFIED:20240104T232033Z
UID:2790-1685275200-1685275200@www.cornerstonevictoria.com
SUMMARY:Worship Service
DESCRIPTION:I was glad when they said unto me\, Let us go into the house of the Lord. Psalm 122:1
URL:https://www.cornerstonevictoria.com/event/sunday-worship-service-2023-05-28/
LOCATION:BC
ATTACH;FMTTYPE=image/png:https://www.cornerstonevictoria.com/wp-content/uploads/2022/06/Sunday-Service.png
END:VEVENT
BEGIN:VEVENT
DTSTART;TZID=America/Vancouver:20230523T193000
DTEND;TZID=America/Vancouver:20230523T193000
DTSTAMP:20260420T103408
CREATED:20220628T043850Z
LAST-MODIFIED:20230113T044137Z
UID:3346-1684870200-1684870200@www.cornerstonevictoria.com
SUMMARY:Bible classes for all ages
DESCRIPTION:This book of the law shall not depart out of thy mouth; but thou shalt meditate therein day and night\, that thou mayest observe to do according to all that is written therein: for then thou shalt make thy way prosperous\, and then thou shalt have good success. Joshua 1:8
URL:https://www.cornerstonevictoria.com/event/bible-study-2-2023-05-23/
LOCATION:Cornerstone Pentecostal Church\, 4274 Wilkinson Rd\, Victoria\, BC\, Victoria\, BC\, V8Z 5B5\, Canada
ATTACH;FMTTYPE=image/png:https://www.cornerstonevictoria.com/wp-content/uploads/2022/06/Bible-study-Cornerstone-Victoria.png
END:VEVENT
BEGIN:VEVENT
DTSTART;TZID=America/Vancouver:20230521T120000
DTEND;TZID=America/Vancouver:20230521T120000
DTSTAMP:20260420T103408
CREATED:20220628T093007Z
LAST-MODIFIED:20240104T232033Z
UID:2789-1684670400-1684670400@www.cornerstonevictoria.com
SUMMARY:Worship Service
DESCRIPTION:I was glad when they said unto me\, Let us go into the house of the Lord. Psalm 122:1
URL:https://www.cornerstonevictoria.com/event/sunday-worship-service-2023-05-21/
LOCATION:BC
ATTACH;FMTTYPE=image/png:https://www.cornerstonevictoria.com/wp-content/uploads/2022/06/Sunday-Service.png
END:VEVENT
BEGIN:VEVENT
DTSTART;TZID=America/Vancouver:20230516T193000
DTEND;TZID=America/Vancouver:20230516T193000
DTSTAMP:20260420T103408
CREATED:20220628T043850Z
LAST-MODIFIED:20230113T044137Z
UID:3403-1684265400-1684265400@www.cornerstonevictoria.com
SUMMARY:Bible classes for all ages
DESCRIPTION:This book of the law shall not depart out of thy mouth; but thou shalt meditate therein day and night\, that thou mayest observe to do according to all that is written therein: for then thou shalt make thy way prosperous\, and then thou shalt have good success. Joshua 1:8
URL:https://www.cornerstonevictoria.com/event/bible-study-2-2023-05-16/
LOCATION:Cornerstone Pentecostal Church\, 4274 Wilkinson Rd\, Victoria\, BC\, Victoria\, BC\, V8Z 5B5\, Canada
ATTACH;FMTTYPE=image/png:https://www.cornerstonevictoria.com/wp-content/uploads/2022/06/Bible-study-Cornerstone-Victoria.png
END:VEVENT
BEGIN:VEVENT
DTSTART;TZID=America/Vancouver:20230514T120000
DTEND;TZID=America/Vancouver:20230514T120000
DTSTAMP:20260420T103408
CREATED:20220628T093007Z
LAST-MODIFIED:20240104T232033Z
UID:2788-1684065600-1684065600@www.cornerstonevictoria.com
SUMMARY:Worship Service
DESCRIPTION:I was glad when they said unto me\, Let us go into the house of the Lord. Psalm 122:1
URL:https://www.cornerstonevictoria.com/event/sunday-worship-service-2023-05-14/
LOCATION:BC
ATTACH;FMTTYPE=image/png:https://www.cornerstonevictoria.com/wp-content/uploads/2022/06/Sunday-Service.png
END:VEVENT
BEGIN:VEVENT
DTSTART;TZID=America/Vancouver:20230507T120000
DTEND;TZID=America/Vancouver:20230507T120000
DTSTAMP:20260420T103408
CREATED:20220628T093007Z
LAST-MODIFIED:20240104T232032Z
UID:2787-1683460800-1683460800@www.cornerstonevictoria.com
SUMMARY:Worship Service
DESCRIPTION:I was glad when they said unto me\, Let us go into the house of the Lord. Psalm 122:1
URL:https://www.cornerstonevictoria.com/event/sunday-worship-service-2023-05-07/
LOCATION:BC
ATTACH;FMTTYPE=image/png:https://www.cornerstonevictoria.com/wp-content/uploads/2022/06/Sunday-Service.png
END:VEVENT
BEGIN:VEVENT
DTSTART;TZID=America/Vancouver:20230502T193000
DTEND;TZID=America/Vancouver:20230502T193000
DTSTAMP:20260420T103408
CREATED:20220628T043850Z
LAST-MODIFIED:20230417T150901Z
UID:3344-1683055800-1683055800@www.cornerstonevictoria.com
SUMMARY:Bible classes for all ages
DESCRIPTION:This book of the law shall not depart out of thy mouth; but thou shalt meditate therein day and night\, that thou mayest observe to do according to all that is written therein: for then thou shalt make thy way prosperous\, and then thou shalt have good success. Joshua 1:8
URL:https://www.cornerstonevictoria.com/event/bible-study-2-2023-05-02/
LOCATION:Cornerstone Pentecostal Church\, 4274 Wilkinson Rd\, Victoria\, BC\, Victoria\, BC\, V8Z 5B5\, Canada
ATTACH;FMTTYPE=image/png:https://www.cornerstonevictoria.com/wp-content/uploads/2022/06/Bible-study-Cornerstone-Victoria.png
END:VEVENT
BEGIN:VEVENT
DTSTART;TZID=America/Vancouver:20230430T120000
DTEND;TZID=America/Vancouver:20230430T120000
DTSTAMP:20260420T103408
CREATED:20220628T093007Z
LAST-MODIFIED:20240104T232032Z
UID:2786-1682856000-1682856000@www.cornerstonevictoria.com
SUMMARY:Worship Service
DESCRIPTION:I was glad when they said unto me\, Let us go into the house of the Lord. Psalm 122:1
URL:https://www.cornerstonevictoria.com/event/sunday-worship-service-2023-04-30/
LOCATION:BC
ATTACH;FMTTYPE=image/png:https://www.cornerstonevictoria.com/wp-content/uploads/2022/06/Sunday-Service.png
END:VEVENT
BEGIN:VEVENT
DTSTART;TZID=America/Vancouver:20230425T193000
DTEND;TZID=America/Vancouver:20230425T193000
DTSTAMP:20260420T103408
CREATED:20220628T043850Z
LAST-MODIFIED:20230417T150859Z
UID:3402-1682451000-1682451000@www.cornerstonevictoria.com
SUMMARY:Bible classes for all ages
DESCRIPTION:This book of the law shall not depart out of thy mouth; but thou shalt meditate therein day and night\, that thou mayest observe to do according to all that is written therein: for then thou shalt make thy way prosperous\, and then thou shalt have good success. Joshua 1:8
URL:https://www.cornerstonevictoria.com/event/bible-study-2-2023-04-25/
LOCATION:Cornerstone Pentecostal Church\, 4274 Wilkinson Rd\, Victoria\, BC\, Victoria\, BC\, V8Z 5B5\, Canada
ATTACH;FMTTYPE=image/png:https://www.cornerstonevictoria.com/wp-content/uploads/2022/06/Bible-study-Cornerstone-Victoria.png
END:VEVENT
BEGIN:VEVENT
DTSTART;TZID=America/Vancouver:20230423T120000
DTEND;TZID=America/Vancouver:20230423T120000
DTSTAMP:20260420T103408
CREATED:20220628T093007Z
LAST-MODIFIED:20240104T232032Z
UID:2785-1682251200-1682251200@www.cornerstonevictoria.com
SUMMARY:Worship Service
DESCRIPTION:I was glad when they said unto me\, Let us go into the house of the Lord. Psalm 122:1
URL:https://www.cornerstonevictoria.com/event/sunday-worship-service-2023-04-23/
LOCATION:BC
ATTACH;FMTTYPE=image/png:https://www.cornerstonevictoria.com/wp-content/uploads/2022/06/Sunday-Service.png
END:VEVENT
BEGIN:VEVENT
DTSTART;TZID=America/Vancouver:20230418T193000
DTEND;TZID=America/Vancouver:20230418T193000
DTSTAMP:20260420T103408
CREATED:20220628T043850Z
LAST-MODIFIED:20230113T044137Z
UID:3343-1681846200-1681846200@www.cornerstonevictoria.com
SUMMARY:Bible classes for all ages
DESCRIPTION:This book of the law shall not depart out of thy mouth; but thou shalt meditate therein day and night\, that thou mayest observe to do according to all that is written therein: for then thou shalt make thy way prosperous\, and then thou shalt have good success. Joshua 1:8
URL:https://www.cornerstonevictoria.com/event/bible-study-2-2023-04-18/
LOCATION:Cornerstone Pentecostal Church\, 4274 Wilkinson Rd\, Victoria\, BC\, Victoria\, BC\, V8Z 5B5\, Canada
ATTACH;FMTTYPE=image/png:https://www.cornerstonevictoria.com/wp-content/uploads/2022/06/Bible-study-Cornerstone-Victoria.png
END:VEVENT
BEGIN:VEVENT
DTSTART;TZID=America/Vancouver:20230416T120000
DTEND;TZID=America/Vancouver:20230416T120000
DTSTAMP:20260420T103408
CREATED:20220628T093007Z
LAST-MODIFIED:20240104T232032Z
UID:2784-1681646400-1681646400@www.cornerstonevictoria.com
SUMMARY:Worship Service
DESCRIPTION:I was glad when they said unto me\, Let us go into the house of the Lord. Psalm 122:1
URL:https://www.cornerstonevictoria.com/event/sunday-worship-service-2023-04-16/
LOCATION:BC
ATTACH;FMTTYPE=image/png:https://www.cornerstonevictoria.com/wp-content/uploads/2022/06/Sunday-Service.png
END:VEVENT
BEGIN:VEVENT
DTSTART;TZID=America/Vancouver:20230409T120000
DTEND;TZID=America/Vancouver:20230409T120000
DTSTAMP:20260420T103408
CREATED:20220628T093007Z
LAST-MODIFIED:20240104T232032Z
UID:2783-1681041600-1681041600@www.cornerstonevictoria.com
SUMMARY:Worship Service
DESCRIPTION:I was glad when they said unto me\, Let us go into the house of the Lord. Psalm 122:1
URL:https://www.cornerstonevictoria.com/event/sunday-worship-service-2023-04-09/
LOCATION:BC
ATTACH;FMTTYPE=image/png:https://www.cornerstonevictoria.com/wp-content/uploads/2022/06/Sunday-Service.png
END:VEVENT
BEGIN:VEVENT
DTSTART;TZID=America/Vancouver:20230404T193000
DTEND;TZID=America/Vancouver:20230404T193000
DTSTAMP:20260420T103408
CREATED:20220628T043850Z
LAST-MODIFIED:20230315T085232Z
UID:3401-1680636600-1680636600@www.cornerstonevictoria.com
SUMMARY:Bible classes for all ages
DESCRIPTION:This book of the law shall not depart out of thy mouth; but thou shalt meditate therein day and night\, that thou mayest observe to do according to all that is written therein: for then thou shalt make thy way prosperous\, and then thou shalt have good success. Joshua 1:8
URL:https://www.cornerstonevictoria.com/event/bible-study-2-2023-04-04/
LOCATION:Cornerstone Pentecostal Church\, 4274 Wilkinson Rd\, Victoria\, BC\, Victoria\, BC\, V8Z 5B5\, Canada
ATTACH;FMTTYPE=image/png:https://www.cornerstonevictoria.com/wp-content/uploads/2022/06/Bible-study-Cornerstone-Victoria.png
END:VEVENT
BEGIN:VEVENT
DTSTART;TZID=America/Vancouver:20230402T120000
DTEND;TZID=America/Vancouver:20230402T120000
DTSTAMP:20260420T103408
CREATED:20220628T093007Z
LAST-MODIFIED:20240104T232032Z
UID:2782-1680436800-1680436800@www.cornerstonevictoria.com
SUMMARY:Worship Service
DESCRIPTION:I was glad when they said unto me\, Let us go into the house of the Lord. Psalm 122:1
URL:https://www.cornerstonevictoria.com/event/sunday-worship-service-2023-04-02/
LOCATION:BC
ATTACH;FMTTYPE=image/png:https://www.cornerstonevictoria.com/wp-content/uploads/2022/06/Sunday-Service.png
END:VEVENT
BEGIN:VEVENT
DTSTART;TZID=America/Vancouver:20230328T193000
DTEND;TZID=America/Vancouver:20230328T193000
DTSTAMP:20260420T103408
CREATED:20220628T043850Z
LAST-MODIFIED:20230113T044137Z
UID:3341-1680031800-1680031800@www.cornerstonevictoria.com
SUMMARY:Bible classes for all ages
DESCRIPTION:This book of the law shall not depart out of thy mouth; but thou shalt meditate therein day and night\, that thou mayest observe to do according to all that is written therein: for then thou shalt make thy way prosperous\, and then thou shalt have good success. Joshua 1:8
URL:https://www.cornerstonevictoria.com/event/bible-study-2-2023-03-28/
LOCATION:Cornerstone Pentecostal Church\, 4274 Wilkinson Rd\, Victoria\, BC\, Victoria\, BC\, V8Z 5B5\, Canada
ATTACH;FMTTYPE=image/png:https://www.cornerstonevictoria.com/wp-content/uploads/2022/06/Bible-study-Cornerstone-Victoria.png
END:VEVENT
BEGIN:VEVENT
DTSTART;TZID=America/Vancouver:20230326T120000
DTEND;TZID=America/Vancouver:20230326T120000
DTSTAMP:20260420T103408
CREATED:20220628T093007Z
LAST-MODIFIED:20240104T232032Z
UID:2781-1679832000-1679832000@www.cornerstonevictoria.com
SUMMARY:Worship Service
DESCRIPTION:I was glad when they said unto me\, Let us go into the house of the Lord. Psalm 122:1
URL:https://www.cornerstonevictoria.com/event/sunday-worship-service-2023-03-26/
LOCATION:BC
ATTACH;FMTTYPE=image/png:https://www.cornerstonevictoria.com/wp-content/uploads/2022/06/Sunday-Service.png
END:VEVENT
BEGIN:VEVENT
DTSTART;TZID=America/Vancouver:20230321T193000
DTEND;TZID=America/Vancouver:20230321T193000
DTSTAMP:20260420T103408
CREATED:20220628T043850Z
LAST-MODIFIED:20230113T044136Z
UID:3340-1679427000-1679427000@www.cornerstonevictoria.com
SUMMARY:Bible classes for all ages
DESCRIPTION:This book of the law shall not depart out of thy mouth; but thou shalt meditate therein day and night\, that thou mayest observe to do according to all that is written therein: for then thou shalt make thy way prosperous\, and then thou shalt have good success. Joshua 1:8
URL:https://www.cornerstonevictoria.com/event/bible-study-2-2023-03-21/
LOCATION:Cornerstone Pentecostal Church\, 4274 Wilkinson Rd\, Victoria\, BC\, Victoria\, BC\, V8Z 5B5\, Canada
ATTACH;FMTTYPE=image/png:https://www.cornerstonevictoria.com/wp-content/uploads/2022/06/Bible-study-Cornerstone-Victoria.png
END:VEVENT
BEGIN:VEVENT
DTSTART;TZID=America/Vancouver:20230319T120000
DTEND;TZID=America/Vancouver:20230319T120000
DTSTAMP:20260420T103408
CREATED:20220628T093007Z
LAST-MODIFIED:20240104T232032Z
UID:2780-1679227200-1679227200@www.cornerstonevictoria.com
SUMMARY:Worship Service
DESCRIPTION:I was glad when they said unto me\, Let us go into the house of the Lord. Psalm 122:1
URL:https://www.cornerstonevictoria.com/event/sunday-worship-service-2023-03-19/
LOCATION:BC
ATTACH;FMTTYPE=image/png:https://www.cornerstonevictoria.com/wp-content/uploads/2022/06/Sunday-Service.png
END:VEVENT
END:VCALENDAR