BEGIN:VCALENDAR
VERSION:2.0
PRODID:-//Cornerstone - ECPv6.15.20//NONSGML v1.0//EN
CALSCALE:GREGORIAN
METHOD:PUBLISH
X-ORIGINAL-URL:https://www.cornerstonevictoria.com
X-WR-CALDESC:Events for Cornerstone
REFRESH-INTERVAL;VALUE=DURATION:PT1H
X-Robots-Tag:noindex
X-PUBLISHED-TTL:PT1H
BEGIN:VTIMEZONE
TZID:America/Vancouver
BEGIN:DAYLIGHT
TZOFFSETFROM:-0800
TZOFFSETTO:-0700
TZNAME:PDT
DTSTART:20210314T100000
END:DAYLIGHT
BEGIN:STANDARD
TZOFFSETFROM:-0700
TZOFFSETTO:-0800
TZNAME:PST
DTSTART:20211107T090000
END:STANDARD
BEGIN:DAYLIGHT
TZOFFSETFROM:-0800
TZOFFSETTO:-0700
TZNAME:PDT
DTSTART:20220313T100000
END:DAYLIGHT
BEGIN:STANDARD
TZOFFSETFROM:-0700
TZOFFSETTO:-0800
TZNAME:PST
DTSTART:20221106T090000
END:STANDARD
BEGIN:DAYLIGHT
TZOFFSETFROM:-0800
TZOFFSETTO:-0700
TZNAME:PDT
DTSTART:20230312T100000
END:DAYLIGHT
BEGIN:STANDARD
TZOFFSETFROM:-0700
TZOFFSETTO:-0800
TZNAME:PST
DTSTART:20231105T090000
END:STANDARD
BEGIN:DAYLIGHT
TZOFFSETFROM:-0800
TZOFFSETTO:-0700
TZNAME:PDT
DTSTART:20240310T100000
END:DAYLIGHT
BEGIN:STANDARD
TZOFFSETFROM:-0700
TZOFFSETTO:-0800
TZNAME:PST
DTSTART:20241103T090000
END:STANDARD
END:VTIMEZONE
BEGIN:VEVENT
DTSTART;TZID=America/Vancouver:20230131T193000
DTEND;TZID=America/Vancouver:20230131T193000
DTSTAMP:20260420T215704
CREATED:20220628T043850Z
LAST-MODIFIED:20230113T044135Z
UID:3399-1675193400-1675193400@www.cornerstonevictoria.com
SUMMARY:Bible classes for all ages
DESCRIPTION:This book of the law shall not depart out of thy mouth; but thou shalt meditate therein day and night\, that thou mayest observe to do according to all that is written therein: for then thou shalt make thy way prosperous\, and then thou shalt have good success. Joshua 1:8
URL:https://www.cornerstonevictoria.com/event/bible-study-2-2023-01-31/
LOCATION:Cornerstone Pentecostal Church\, 4274 Wilkinson Rd\, Victoria\, BC\, Victoria\, BC\, V8Z 5B5\, Canada
ATTACH;FMTTYPE=image/png:https://www.cornerstonevictoria.com/wp-content/uploads/2022/06/Bible-study-Cornerstone-Victoria.png
END:VEVENT
BEGIN:VEVENT
DTSTART;TZID=America/Vancouver:20230129T120000
DTEND;TZID=America/Vancouver:20230129T120000
DTSTAMP:20260420T215704
CREATED:20220628T093007Z
LAST-MODIFIED:20240104T232031Z
UID:2773-1674993600-1674993600@www.cornerstonevictoria.com
SUMMARY:Worship Service
DESCRIPTION:I was glad when they said unto me\, Let us go into the house of the Lord. Psalm 122:1
URL:https://www.cornerstonevictoria.com/event/sunday-worship-service-2023-01-29/
LOCATION:BC
ATTACH;FMTTYPE=image/png:https://www.cornerstonevictoria.com/wp-content/uploads/2022/06/Sunday-Service.png
END:VEVENT
BEGIN:VEVENT
DTSTART;TZID=America/Vancouver:20230124T193000
DTEND;TZID=America/Vancouver:20230124T193000
DTSTAMP:20260420T215704
CREATED:20220628T043850Z
LAST-MODIFIED:20230114T042825Z
UID:3335-1674588600-1674588600@www.cornerstonevictoria.com
SUMMARY:Bible classes for all ages
DESCRIPTION:This book of the law shall not depart out of thy mouth; but thou shalt meditate therein day and night\, that thou mayest observe to do according to all that is written therein: for then thou shalt make thy way prosperous\, and then thou shalt have good success. Joshua 1:8
URL:https://www.cornerstonevictoria.com/event/bible-study-2-2023-01-24/
LOCATION:Cornerstone Pentecostal Church\, 4274 Wilkinson Rd\, Victoria\, BC\, Victoria\, BC\, V8Z 5B5\, Canada
ATTACH;FMTTYPE=image/png:https://www.cornerstonevictoria.com/wp-content/uploads/2022/06/Bible-study-Cornerstone-Victoria.png
END:VEVENT
BEGIN:VEVENT
DTSTART;TZID=America/Vancouver:20230122T120000
DTEND;TZID=America/Vancouver:20230122T120000
DTSTAMP:20260420T215704
CREATED:20220628T093007Z
LAST-MODIFIED:20240104T232031Z
UID:2772-1674388800-1674388800@www.cornerstonevictoria.com
SUMMARY:Worship Service
DESCRIPTION:I was glad when they said unto me\, Let us go into the house of the Lord. Psalm 122:1
URL:https://www.cornerstonevictoria.com/event/sunday-worship-service-2023-01-22/
LOCATION:BC
ATTACH;FMTTYPE=image/png:https://www.cornerstonevictoria.com/wp-content/uploads/2022/06/Sunday-Service.png
END:VEVENT
BEGIN:VEVENT
DTSTART;TZID=America/Vancouver:20230117T193000
DTEND;TZID=America/Vancouver:20230117T193000
DTSTAMP:20260420T215704
CREATED:20220628T043850Z
LAST-MODIFIED:20230113T044135Z
UID:3334-1673983800-1673983800@www.cornerstonevictoria.com
SUMMARY:Bible classes for all ages
DESCRIPTION:This book of the law shall not depart out of thy mouth; but thou shalt meditate therein day and night\, that thou mayest observe to do according to all that is written therein: for then thou shalt make thy way prosperous\, and then thou shalt have good success. Joshua 1:8
URL:https://www.cornerstonevictoria.com/event/bible-study-2-2023-01-17/
LOCATION:Cornerstone Pentecostal Church\, 4274 Wilkinson Rd\, Victoria\, BC\, Victoria\, BC\, V8Z 5B5\, Canada
ATTACH;FMTTYPE=image/png:https://www.cornerstonevictoria.com/wp-content/uploads/2022/06/Bible-study-Cornerstone-Victoria.png
END:VEVENT
BEGIN:VEVENT
DTSTART;TZID=America/Vancouver:20230115T120000
DTEND;TZID=America/Vancouver:20230115T120000
DTSTAMP:20260420T215704
CREATED:20220628T093007Z
LAST-MODIFIED:20240104T232031Z
UID:2771-1673784000-1673784000@www.cornerstonevictoria.com
SUMMARY:Worship Service
DESCRIPTION:I was glad when they said unto me\, Let us go into the house of the Lord. Psalm 122:1
URL:https://www.cornerstonevictoria.com/event/sunday-worship-service-2023-01-15/
LOCATION:BC
ATTACH;FMTTYPE=image/png:https://www.cornerstonevictoria.com/wp-content/uploads/2022/06/Sunday-Service.png
END:VEVENT
BEGIN:VEVENT
DTSTART;TZID=America/Vancouver:20230108T120000
DTEND;TZID=America/Vancouver:20230108T120000
DTSTAMP:20260420T215704
CREATED:20220628T093007Z
LAST-MODIFIED:20240104T232031Z
UID:2770-1673179200-1673179200@www.cornerstonevictoria.com
SUMMARY:Worship Service
DESCRIPTION:I was glad when they said unto me\, Let us go into the house of the Lord. Psalm 122:1
URL:https://www.cornerstonevictoria.com/event/sunday-worship-service-2023-01-08/
LOCATION:BC
ATTACH;FMTTYPE=image/png:https://www.cornerstonevictoria.com/wp-content/uploads/2022/06/Sunday-Service.png
END:VEVENT
BEGIN:VEVENT
DTSTART;TZID=America/Vancouver:20230103T193000
DTEND;TZID=America/Vancouver:20230103T193000
DTSTAMP:20260420T215704
CREATED:20220628T043850Z
LAST-MODIFIED:20230113T044135Z
UID:3333-1672774200-1672774200@www.cornerstonevictoria.com
SUMMARY:Bible classes for all ages
DESCRIPTION:This book of the law shall not depart out of thy mouth; but thou shalt meditate therein day and night\, that thou mayest observe to do according to all that is written therein: for then thou shalt make thy way prosperous\, and then thou shalt have good success. Joshua 1:8
URL:https://www.cornerstonevictoria.com/event/bible-study-2-2023-01-03/
LOCATION:Cornerstone Pentecostal Church\, 4274 Wilkinson Rd\, Victoria\, BC\, Victoria\, BC\, V8Z 5B5\, Canada
ATTACH;FMTTYPE=image/png:https://www.cornerstonevictoria.com/wp-content/uploads/2022/06/Bible-study-Cornerstone-Victoria.png
END:VEVENT
BEGIN:VEVENT
DTSTART;TZID=America/Vancouver:20230101T120000
DTEND;TZID=America/Vancouver:20230101T120000
DTSTAMP:20260420T215704
CREATED:20220628T093007Z
LAST-MODIFIED:20240104T232031Z
UID:2769-1672574400-1672574400@www.cornerstonevictoria.com
SUMMARY:Worship Service
DESCRIPTION:I was glad when they said unto me\, Let us go into the house of the Lord. Psalm 122:1
URL:https://www.cornerstonevictoria.com/event/sunday-worship-service-2023-01-01/
LOCATION:BC
ATTACH;FMTTYPE=image/png:https://www.cornerstonevictoria.com/wp-content/uploads/2022/06/Sunday-Service.png
END:VEVENT
BEGIN:VEVENT
DTSTART;TZID=America/Vancouver:20221227T193000
DTEND;TZID=America/Vancouver:20221227T193000
DTSTAMP:20260420T215704
CREATED:20220628T043850Z
LAST-MODIFIED:20230113T044135Z
UID:3332-1672169400-1672169400@www.cornerstonevictoria.com
SUMMARY:Bible classes for all ages
DESCRIPTION:This book of the law shall not depart out of thy mouth; but thou shalt meditate therein day and night\, that thou mayest observe to do according to all that is written therein: for then thou shalt make thy way prosperous\, and then thou shalt have good success. Joshua 1:8
URL:https://www.cornerstonevictoria.com/event/bible-study-2-2022-12-27/
LOCATION:Cornerstone Pentecostal Church\, 4274 Wilkinson Rd\, Victoria\, BC\, Victoria\, BC\, V8Z 5B5\, Canada
ATTACH;FMTTYPE=image/png:https://www.cornerstonevictoria.com/wp-content/uploads/2022/06/Bible-study-Cornerstone-Victoria.png
END:VEVENT
BEGIN:VEVENT
DTSTART;TZID=America/Vancouver:20221225T120000
DTEND;TZID=America/Vancouver:20221225T120000
DTSTAMP:20260420T215704
CREATED:20220628T093007Z
LAST-MODIFIED:20240104T232031Z
UID:2768-1671969600-1671969600@www.cornerstonevictoria.com
SUMMARY:Worship Service
DESCRIPTION:I was glad when they said unto me\, Let us go into the house of the Lord. Psalm 122:1
URL:https://www.cornerstonevictoria.com/event/sunday-worship-service-2022-12-25/
LOCATION:BC
ATTACH;FMTTYPE=image/png:https://www.cornerstonevictoria.com/wp-content/uploads/2022/06/Sunday-Service.png
END:VEVENT
BEGIN:VEVENT
DTSTART;TZID=America/Vancouver:20221220T193000
DTEND;TZID=America/Vancouver:20221220T193000
DTSTAMP:20260420T215704
CREATED:20220628T043850Z
LAST-MODIFIED:20230113T044134Z
UID:3398-1671564600-1671564600@www.cornerstonevictoria.com
SUMMARY:Bible classes for all ages
DESCRIPTION:This book of the law shall not depart out of thy mouth; but thou shalt meditate therein day and night\, that thou mayest observe to do according to all that is written therein: for then thou shalt make thy way prosperous\, and then thou shalt have good success. Joshua 1:8
URL:https://www.cornerstonevictoria.com/event/bible-study-2-2022-12-20/
LOCATION:Cornerstone Pentecostal Church\, 4274 Wilkinson Rd\, Victoria\, BC\, Victoria\, BC\, V8Z 5B5\, Canada
ATTACH;FMTTYPE=image/png:https://www.cornerstonevictoria.com/wp-content/uploads/2022/06/Bible-study-Cornerstone-Victoria.png
END:VEVENT
BEGIN:VEVENT
DTSTART;TZID=America/Vancouver:20221218T120000
DTEND;TZID=America/Vancouver:20221218T120000
DTSTAMP:20260420T215704
CREATED:20220628T093007Z
LAST-MODIFIED:20240104T232030Z
UID:2767-1671364800-1671364800@www.cornerstonevictoria.com
SUMMARY:Worship Service
DESCRIPTION:I was glad when they said unto me\, Let us go into the house of the Lord. Psalm 122:1
URL:https://www.cornerstonevictoria.com/event/sunday-worship-service-2022-12-18/
LOCATION:BC
ATTACH;FMTTYPE=image/png:https://www.cornerstonevictoria.com/wp-content/uploads/2022/06/Sunday-Service.png
END:VEVENT
BEGIN:VEVENT
DTSTART;TZID=America/Vancouver:20221213T193000
DTEND;TZID=America/Vancouver:20221213T193000
DTSTAMP:20260420T215704
CREATED:20220628T043850Z
LAST-MODIFIED:20230113T054100Z
UID:3128-1670959800-1670959800@www.cornerstonevictoria.com
SUMMARY:Acoustic Tuesday
DESCRIPTION:This book of the law shall not depart out of thy mouth; but thou shalt meditate therein day and night\, that thou mayest observe to do according to all that is written therein: for then thou shalt make thy way prosperous\, and then thou shalt have good success. Joshua 1:8
URL:https://www.cornerstonevictoria.com/event/bible-study-2-2022-01-04-2022-12-13/
LOCATION:Cornerstone Pentecostal Church\, 4274 Wilkinson Rd\, Victoria\, BC\, Victoria\, BC\, V8Z 5B5\, Canada
ATTACH;FMTTYPE=image/png:https://www.cornerstonevictoria.com/wp-content/uploads/2022/06/Bible-study-Cornerstone-Victoria.png
END:VEVENT
BEGIN:VEVENT
DTSTART;TZID=America/Vancouver:20221211T120000
DTEND;TZID=America/Vancouver:20221211T120000
DTSTAMP:20260420T215704
CREATED:20220628T093007Z
LAST-MODIFIED:20240104T232030Z
UID:2766-1670760000-1670760000@www.cornerstonevictoria.com
SUMMARY:Worship Service
DESCRIPTION:I was glad when they said unto me\, Let us go into the house of the Lord. Psalm 122:1
URL:https://www.cornerstonevictoria.com/event/sunday-worship-service-2022-12-11/
LOCATION:BC
ATTACH;FMTTYPE=image/png:https://www.cornerstonevictoria.com/wp-content/uploads/2022/06/Sunday-Service.png
END:VEVENT
BEGIN:VEVENT
DTSTART;TZID=America/Vancouver:20221206T193000
DTEND;TZID=America/Vancouver:20221206T193000
DTSTAMP:20260420T215704
CREATED:20220628T043850Z
LAST-MODIFIED:20230113T044134Z
UID:3330-1670355000-1670355000@www.cornerstonevictoria.com
SUMMARY:Bible classes for all ages
DESCRIPTION:This book of the law shall not depart out of thy mouth; but thou shalt meditate therein day and night\, that thou mayest observe to do according to all that is written therein: for then thou shalt make thy way prosperous\, and then thou shalt have good success. Joshua 1:8
URL:https://www.cornerstonevictoria.com/event/bible-study-2-2022-12-06/
LOCATION:Cornerstone Pentecostal Church\, 4274 Wilkinson Rd\, Victoria\, BC\, Victoria\, BC\, V8Z 5B5\, Canada
ATTACH;FMTTYPE=image/png:https://www.cornerstonevictoria.com/wp-content/uploads/2022/06/Bible-study-Cornerstone-Victoria.png
END:VEVENT
BEGIN:VEVENT
DTSTART;TZID=America/Vancouver:20221204T120000
DTEND;TZID=America/Vancouver:20221204T120000
DTSTAMP:20260420T215704
CREATED:20220628T093007Z
LAST-MODIFIED:20240104T232030Z
UID:2765-1670155200-1670155200@www.cornerstonevictoria.com
SUMMARY:Worship Service
DESCRIPTION:I was glad when they said unto me\, Let us go into the house of the Lord. Psalm 122:1
URL:https://www.cornerstonevictoria.com/event/sunday-worship-service-2022-12-04/
LOCATION:BC
ATTACH;FMTTYPE=image/png:https://www.cornerstonevictoria.com/wp-content/uploads/2022/06/Sunday-Service.png
END:VEVENT
BEGIN:VEVENT
DTSTART;TZID=America/Vancouver:20221129T193000
DTEND;TZID=America/Vancouver:20221129T193000
DTSTAMP:20260420T215704
CREATED:20220628T043850Z
LAST-MODIFIED:20230113T044133Z
UID:3397-1669750200-1669750200@www.cornerstonevictoria.com
SUMMARY:Bible classes for all ages
DESCRIPTION:This book of the law shall not depart out of thy mouth; but thou shalt meditate therein day and night\, that thou mayest observe to do according to all that is written therein: for then thou shalt make thy way prosperous\, and then thou shalt have good success. Joshua 1:8
URL:https://www.cornerstonevictoria.com/event/bible-study-2-2022-11-29/
LOCATION:Cornerstone Pentecostal Church\, 4274 Wilkinson Rd\, Victoria\, BC\, Victoria\, BC\, V8Z 5B5\, Canada
ATTACH;FMTTYPE=image/png:https://www.cornerstonevictoria.com/wp-content/uploads/2022/06/Bible-study-Cornerstone-Victoria.png
END:VEVENT
BEGIN:VEVENT
DTSTART;TZID=America/Vancouver:20221127T120000
DTEND;TZID=America/Vancouver:20221127T120000
DTSTAMP:20260420T215704
CREATED:20220628T093007Z
LAST-MODIFIED:20240104T232030Z
UID:2764-1669550400-1669550400@www.cornerstonevictoria.com
SUMMARY:Worship Service
DESCRIPTION:I was glad when they said unto me\, Let us go into the house of the Lord. Psalm 122:1
URL:https://www.cornerstonevictoria.com/event/sunday-worship-service-2022-11-27/
LOCATION:BC
ATTACH;FMTTYPE=image/png:https://www.cornerstonevictoria.com/wp-content/uploads/2022/06/Sunday-Service.png
END:VEVENT
BEGIN:VEVENT
DTSTART;TZID=America/Vancouver:20221122T193000
DTEND;TZID=America/Vancouver:20221122T193000
DTSTAMP:20260420T215704
CREATED:20220628T043850Z
LAST-MODIFIED:20230113T044133Z
UID:3329-1669145400-1669145400@www.cornerstonevictoria.com
SUMMARY:Bible classes for all ages
DESCRIPTION:This book of the law shall not depart out of thy mouth; but thou shalt meditate therein day and night\, that thou mayest observe to do according to all that is written therein: for then thou shalt make thy way prosperous\, and then thou shalt have good success. Joshua 1:8
URL:https://www.cornerstonevictoria.com/event/bible-study-2-2022-11-22/
LOCATION:Cornerstone Pentecostal Church\, 4274 Wilkinson Rd\, Victoria\, BC\, Victoria\, BC\, V8Z 5B5\, Canada
ATTACH;FMTTYPE=image/png:https://www.cornerstonevictoria.com/wp-content/uploads/2022/06/Bible-study-Cornerstone-Victoria.png
END:VEVENT
BEGIN:VEVENT
DTSTART;TZID=America/Vancouver:20221120T120000
DTEND;TZID=America/Vancouver:20221120T120000
DTSTAMP:20260420T215704
CREATED:20220628T093007Z
LAST-MODIFIED:20240104T232030Z
UID:2763-1668945600-1668945600@www.cornerstonevictoria.com
SUMMARY:Worship Service
DESCRIPTION:I was glad when they said unto me\, Let us go into the house of the Lord. Psalm 122:1
URL:https://www.cornerstonevictoria.com/event/sunday-worship-service-2022-11-20/
LOCATION:BC
ATTACH;FMTTYPE=image/png:https://www.cornerstonevictoria.com/wp-content/uploads/2022/06/Sunday-Service.png
END:VEVENT
BEGIN:VEVENT
DTSTART;TZID=America/Vancouver:20221115T193000
DTEND;TZID=America/Vancouver:20221115T193000
DTSTAMP:20260420T215704
CREATED:20220628T043850Z
LAST-MODIFIED:20230113T044133Z
UID:3328-1668540600-1668540600@www.cornerstonevictoria.com
SUMMARY:Bible classes for all ages
DESCRIPTION:This book of the law shall not depart out of thy mouth; but thou shalt meditate therein day and night\, that thou mayest observe to do according to all that is written therein: for then thou shalt make thy way prosperous\, and then thou shalt have good success. Joshua 1:8
URL:https://www.cornerstonevictoria.com/event/bible-study-2-2022-11-15/
LOCATION:Cornerstone Pentecostal Church\, 4274 Wilkinson Rd\, Victoria\, BC\, Victoria\, BC\, V8Z 5B5\, Canada
ATTACH;FMTTYPE=image/png:https://www.cornerstonevictoria.com/wp-content/uploads/2022/06/Bible-study-Cornerstone-Victoria.png
END:VEVENT
BEGIN:VEVENT
DTSTART;TZID=America/Vancouver:20221113T120000
DTEND;TZID=America/Vancouver:20221113T120000
DTSTAMP:20260420T215704
CREATED:20220628T093007Z
LAST-MODIFIED:20240104T232030Z
UID:2762-1668340800-1668340800@www.cornerstonevictoria.com
SUMMARY:Worship Service
DESCRIPTION:I was glad when they said unto me\, Let us go into the house of the Lord. Psalm 122:1
URL:https://www.cornerstonevictoria.com/event/sunday-worship-service-2022-11-13/
LOCATION:BC
ATTACH;FMTTYPE=image/png:https://www.cornerstonevictoria.com/wp-content/uploads/2022/06/Sunday-Service.png
END:VEVENT
BEGIN:VEVENT
DTSTART;TZID=America/Vancouver:20221108T193000
DTEND;TZID=America/Vancouver:20221108T193000
DTSTAMP:20260420T215704
CREATED:20220628T043850Z
LAST-MODIFIED:20230113T054100Z
UID:3127-1667935800-1667935800@www.cornerstonevictoria.com
SUMMARY:Acoustic Tuesday
DESCRIPTION:This book of the law shall not depart out of thy mouth; but thou shalt meditate therein day and night\, that thou mayest observe to do according to all that is written therein: for then thou shalt make thy way prosperous\, and then thou shalt have good success. Joshua 1:8
URL:https://www.cornerstonevictoria.com/event/bible-study-2-2022-01-04-2022-11-08/
LOCATION:Cornerstone Pentecostal Church\, 4274 Wilkinson Rd\, Victoria\, BC\, Victoria\, BC\, V8Z 5B5\, Canada
ATTACH;FMTTYPE=image/png:https://www.cornerstonevictoria.com/wp-content/uploads/2022/06/Bible-study-Cornerstone-Victoria.png
END:VEVENT
BEGIN:VEVENT
DTSTART;TZID=America/Vancouver:20221106T120000
DTEND;TZID=America/Vancouver:20221106T120000
DTSTAMP:20260420T215704
CREATED:20220628T093007Z
LAST-MODIFIED:20240104T232030Z
UID:2761-1667736000-1667736000@www.cornerstonevictoria.com
SUMMARY:Worship Service
DESCRIPTION:I was glad when they said unto me\, Let us go into the house of the Lord. Psalm 122:1
URL:https://www.cornerstonevictoria.com/event/sunday-worship-service-2022-11-06/
LOCATION:BC
ATTACH;FMTTYPE=image/png:https://www.cornerstonevictoria.com/wp-content/uploads/2022/06/Sunday-Service.png
END:VEVENT
BEGIN:VEVENT
DTSTART;TZID=America/Vancouver:20221101T193000
DTEND;TZID=America/Vancouver:20221101T193000
DTSTAMP:20260420T215704
CREATED:20220628T043850Z
LAST-MODIFIED:20230113T044133Z
UID:3327-1667331000-1667331000@www.cornerstonevictoria.com
SUMMARY:Bible classes for all ages
DESCRIPTION:This book of the law shall not depart out of thy mouth; but thou shalt meditate therein day and night\, that thou mayest observe to do according to all that is written therein: for then thou shalt make thy way prosperous\, and then thou shalt have good success. Joshua 1:8
URL:https://www.cornerstonevictoria.com/event/bible-study-2-2022-11-01/
LOCATION:Cornerstone Pentecostal Church\, 4274 Wilkinson Rd\, Victoria\, BC\, Victoria\, BC\, V8Z 5B5\, Canada
ATTACH;FMTTYPE=image/png:https://www.cornerstonevictoria.com/wp-content/uploads/2022/06/Bible-study-Cornerstone-Victoria.png
END:VEVENT
BEGIN:VEVENT
DTSTART;TZID=America/Vancouver:20221030T120000
DTEND;TZID=America/Vancouver:20221030T120000
DTSTAMP:20260420T215704
CREATED:20220628T093007Z
LAST-MODIFIED:20240104T232030Z
UID:2760-1667131200-1667131200@www.cornerstonevictoria.com
SUMMARY:Worship Service
DESCRIPTION:I was glad when they said unto me\, Let us go into the house of the Lord. Psalm 122:1
URL:https://www.cornerstonevictoria.com/event/sunday-worship-service-2022-10-30/
LOCATION:BC
ATTACH;FMTTYPE=image/png:https://www.cornerstonevictoria.com/wp-content/uploads/2022/06/Sunday-Service.png
END:VEVENT
BEGIN:VEVENT
DTSTART;TZID=America/Vancouver:20221025T193000
DTEND;TZID=America/Vancouver:20221025T193000
DTSTAMP:20260420T215704
CREATED:20220628T043850Z
LAST-MODIFIED:20230113T044133Z
UID:3326-1666726200-1666726200@www.cornerstonevictoria.com
SUMMARY:Bible classes for all ages
DESCRIPTION:This book of the law shall not depart out of thy mouth; but thou shalt meditate therein day and night\, that thou mayest observe to do according to all that is written therein: for then thou shalt make thy way prosperous\, and then thou shalt have good success. Joshua 1:8
URL:https://www.cornerstonevictoria.com/event/bible-study-2-2022-10-25/
LOCATION:Cornerstone Pentecostal Church\, 4274 Wilkinson Rd\, Victoria\, BC\, Victoria\, BC\, V8Z 5B5\, Canada
ATTACH;FMTTYPE=image/png:https://www.cornerstonevictoria.com/wp-content/uploads/2022/06/Bible-study-Cornerstone-Victoria.png
END:VEVENT
BEGIN:VEVENT
DTSTART;TZID=America/Vancouver:20221023T120000
DTEND;TZID=America/Vancouver:20221023T120000
DTSTAMP:20260420T215704
CREATED:20220628T093007Z
LAST-MODIFIED:20240104T232030Z
UID:2759-1666526400-1666526400@www.cornerstonevictoria.com
SUMMARY:Worship Service
DESCRIPTION:I was glad when they said unto me\, Let us go into the house of the Lord. Psalm 122:1
URL:https://www.cornerstonevictoria.com/event/sunday-worship-service-2022-10-23/
LOCATION:BC
ATTACH;FMTTYPE=image/png:https://www.cornerstonevictoria.com/wp-content/uploads/2022/06/Sunday-Service.png
END:VEVENT
BEGIN:VEVENT
DTSTART;TZID=America/Vancouver:20221018T193000
DTEND;TZID=America/Vancouver:20221018T193000
DTSTAMP:20260420T215704
CREATED:20220628T043850Z
LAST-MODIFIED:20230113T044133Z
UID:3396-1666121400-1666121400@www.cornerstonevictoria.com
SUMMARY:Bible classes for all ages
DESCRIPTION:This book of the law shall not depart out of thy mouth; but thou shalt meditate therein day and night\, that thou mayest observe to do according to all that is written therein: for then thou shalt make thy way prosperous\, and then thou shalt have good success. Joshua 1:8
URL:https://www.cornerstonevictoria.com/event/bible-study-2-2022-10-18/
LOCATION:Cornerstone Pentecostal Church\, 4274 Wilkinson Rd\, Victoria\, BC\, Victoria\, BC\, V8Z 5B5\, Canada
ATTACH;FMTTYPE=image/png:https://www.cornerstonevictoria.com/wp-content/uploads/2022/06/Bible-study-Cornerstone-Victoria.png
END:VEVENT
END:VCALENDAR