BEGIN:VCALENDAR
VERSION:2.0
PRODID:-//Cornerstone - ECPv6.15.20//NONSGML v1.0//EN
CALSCALE:GREGORIAN
METHOD:PUBLISH
X-WR-CALNAME:Cornerstone
X-ORIGINAL-URL:https://www.cornerstonevictoria.com
X-WR-CALDESC:Events for Cornerstone
REFRESH-INTERVAL;VALUE=DURATION:PT1H
X-Robots-Tag:noindex
X-PUBLISHED-TTL:PT1H
BEGIN:VTIMEZONE
TZID:America/Vancouver
BEGIN:DAYLIGHT
TZOFFSETFROM:-0800
TZOFFSETTO:-0700
TZNAME:PDT
DTSTART:20210314T100000
END:DAYLIGHT
BEGIN:STANDARD
TZOFFSETFROM:-0700
TZOFFSETTO:-0800
TZNAME:PST
DTSTART:20211107T090000
END:STANDARD
BEGIN:DAYLIGHT
TZOFFSETFROM:-0800
TZOFFSETTO:-0700
TZNAME:PDT
DTSTART:20220313T100000
END:DAYLIGHT
BEGIN:STANDARD
TZOFFSETFROM:-0700
TZOFFSETTO:-0800
TZNAME:PST
DTSTART:20221106T090000
END:STANDARD
BEGIN:DAYLIGHT
TZOFFSETFROM:-0800
TZOFFSETTO:-0700
TZNAME:PDT
DTSTART:20230312T100000
END:DAYLIGHT
BEGIN:STANDARD
TZOFFSETFROM:-0700
TZOFFSETTO:-0800
TZNAME:PST
DTSTART:20231105T090000
END:STANDARD
END:VTIMEZONE
BEGIN:VEVENT
DTSTART;TZID=America/Vancouver:20220807T120000
DTEND;TZID=America/Vancouver:20220807T120000
DTSTAMP:20260421T065653
CREATED:20220628T093007Z
LAST-MODIFIED:20240104T232029Z
UID:2748-1659873600-1659873600@www.cornerstonevictoria.com
SUMMARY:Worship Service
DESCRIPTION:I was glad when they said unto me\, Let us go into the house of the Lord. Psalm 122:1
URL:https://www.cornerstonevictoria.com/event/sunday-worship-service-2022-08-07/
LOCATION:BC
ATTACH;FMTTYPE=image/png:https://www.cornerstonevictoria.com/wp-content/uploads/2022/06/Sunday-Service.png
END:VEVENT
BEGIN:VEVENT
DTSTART;TZID=America/Vancouver:20220802T193000
DTEND;TZID=America/Vancouver:20220802T193000
DTSTAMP:20260421T065653
CREATED:20220628T043850Z
LAST-MODIFIED:20230113T044131Z
UID:3318-1659468600-1659468600@www.cornerstonevictoria.com
SUMMARY:Bible classes for all ages
DESCRIPTION:This book of the law shall not depart out of thy mouth; but thou shalt meditate therein day and night\, that thou mayest observe to do according to all that is written therein: for then thou shalt make thy way prosperous\, and then thou shalt have good success. Joshua 1:8
URL:https://www.cornerstonevictoria.com/event/bible-study-2-2022-08-02/
LOCATION:Cornerstone Pentecostal Church\, 4274 Wilkinson Rd\, Victoria\, BC\, Victoria\, BC\, V8Z 5B5\, Canada
ATTACH;FMTTYPE=image/png:https://www.cornerstonevictoria.com/wp-content/uploads/2022/06/Bible-study-Cornerstone-Victoria.png
END:VEVENT
BEGIN:VEVENT
DTSTART;TZID=America/Vancouver:20220731T120000
DTEND;TZID=America/Vancouver:20220731T120000
DTSTAMP:20260421T065653
CREATED:20220628T093007Z
LAST-MODIFIED:20240104T232028Z
UID:2747-1659268800-1659268800@www.cornerstonevictoria.com
SUMMARY:Worship Service
DESCRIPTION:I was glad when they said unto me\, Let us go into the house of the Lord. Psalm 122:1
URL:https://www.cornerstonevictoria.com/event/sunday-worship-service-2022-07-31/
LOCATION:BC
ATTACH;FMTTYPE=image/png:https://www.cornerstonevictoria.com/wp-content/uploads/2022/06/Sunday-Service.png
END:VEVENT
BEGIN:VEVENT
DTSTART;TZID=America/Vancouver:20220726T193000
DTEND;TZID=America/Vancouver:20220726T193000
DTSTAMP:20260421T065653
CREATED:20220628T043850Z
LAST-MODIFIED:20230113T044131Z
UID:3392-1658863800-1658863800@www.cornerstonevictoria.com
SUMMARY:Bible classes for all ages
DESCRIPTION:This book of the law shall not depart out of thy mouth; but thou shalt meditate therein day and night\, that thou mayest observe to do according to all that is written therein: for then thou shalt make thy way prosperous\, and then thou shalt have good success. Joshua 1:8
URL:https://www.cornerstonevictoria.com/event/bible-study-2-2022-07-26/
LOCATION:Cornerstone Pentecostal Church\, 4274 Wilkinson Rd\, Victoria\, BC\, Victoria\, BC\, V8Z 5B5\, Canada
ATTACH;FMTTYPE=image/png:https://www.cornerstonevictoria.com/wp-content/uploads/2022/06/Bible-study-Cornerstone-Victoria.png
END:VEVENT
BEGIN:VEVENT
DTSTART;TZID=America/Vancouver:20220724T120000
DTEND;TZID=America/Vancouver:20220724T120000
DTSTAMP:20260421T065653
CREATED:20220628T093007Z
LAST-MODIFIED:20240104T232028Z
UID:2746-1658664000-1658664000@www.cornerstonevictoria.com
SUMMARY:Worship Service
DESCRIPTION:I was glad when they said unto me\, Let us go into the house of the Lord. Psalm 122:1
URL:https://www.cornerstonevictoria.com/event/sunday-worship-service-2022-07-24/
LOCATION:BC
ATTACH;FMTTYPE=image/png:https://www.cornerstonevictoria.com/wp-content/uploads/2022/06/Sunday-Service.png
END:VEVENT
BEGIN:VEVENT
DTSTART;TZID=America/Vancouver:20220719T193000
DTEND;TZID=America/Vancouver:20220719T193000
DTSTAMP:20260421T065653
CREATED:20220628T043850Z
LAST-MODIFIED:20230113T044131Z
UID:3317-1658259000-1658259000@www.cornerstonevictoria.com
SUMMARY:Bible classes for all ages
DESCRIPTION:This book of the law shall not depart out of thy mouth; but thou shalt meditate therein day and night\, that thou mayest observe to do according to all that is written therein: for then thou shalt make thy way prosperous\, and then thou shalt have good success. Joshua 1:8
URL:https://www.cornerstonevictoria.com/event/bible-study-2-2022-07-19/
LOCATION:Cornerstone Pentecostal Church\, 4274 Wilkinson Rd\, Victoria\, BC\, Victoria\, BC\, V8Z 5B5\, Canada
ATTACH;FMTTYPE=image/png:https://www.cornerstonevictoria.com/wp-content/uploads/2022/06/Bible-study-Cornerstone-Victoria.png
END:VEVENT
BEGIN:VEVENT
DTSTART;TZID=America/Vancouver:20220717T120000
DTEND;TZID=America/Vancouver:20220717T120000
DTSTAMP:20260421T065653
CREATED:20220628T093007Z
LAST-MODIFIED:20240104T232028Z
UID:2745-1658059200-1658059200@www.cornerstonevictoria.com
SUMMARY:Worship Service
DESCRIPTION:I was glad when they said unto me\, Let us go into the house of the Lord. Psalm 122:1
URL:https://www.cornerstonevictoria.com/event/sunday-worship-service-2022-07-17/
LOCATION:BC
ATTACH;FMTTYPE=image/png:https://www.cornerstonevictoria.com/wp-content/uploads/2022/06/Sunday-Service.png
END:VEVENT
BEGIN:VEVENT
DTSTART;TZID=America/Vancouver:20220712T193000
DTEND;TZID=America/Vancouver:20220712T193000
DTSTAMP:20260421T065653
CREATED:20220628T043850Z
LAST-MODIFIED:20230113T054059Z
UID:3123-1657654200-1657654200@www.cornerstonevictoria.com
SUMMARY:Acoustic Tuesday
DESCRIPTION:This book of the law shall not depart out of thy mouth; but thou shalt meditate therein day and night\, that thou mayest observe to do according to all that is written therein: for then thou shalt make thy way prosperous\, and then thou shalt have good success. Joshua 1:8
URL:https://www.cornerstonevictoria.com/event/bible-study-2-2022-01-04-2022-07-12/
LOCATION:Cornerstone Pentecostal Church\, 4274 Wilkinson Rd\, Victoria\, BC\, Victoria\, BC\, V8Z 5B5\, Canada
ATTACH;FMTTYPE=image/png:https://www.cornerstonevictoria.com/wp-content/uploads/2022/06/Bible-study-Cornerstone-Victoria.png
END:VEVENT
BEGIN:VEVENT
DTSTART;TZID=America/Vancouver:20220710T120000
DTEND;TZID=America/Vancouver:20220710T120000
DTSTAMP:20260421T065653
CREATED:20220628T093007Z
LAST-MODIFIED:20240104T232028Z
UID:2744-1657454400-1657454400@www.cornerstonevictoria.com
SUMMARY:Worship Service
DESCRIPTION:I was glad when they said unto me\, Let us go into the house of the Lord. Psalm 122:1
URL:https://www.cornerstonevictoria.com/event/sunday-worship-service-2022-07-10/
LOCATION:BC
ATTACH;FMTTYPE=image/png:https://www.cornerstonevictoria.com/wp-content/uploads/2022/06/Sunday-Service.png
END:VEVENT
BEGIN:VEVENT
DTSTART;TZID=America/Vancouver:20220705T193000
DTEND;TZID=America/Vancouver:20220705T193000
DTSTAMP:20260421T065653
CREATED:20220628T043850Z
LAST-MODIFIED:20230113T044131Z
UID:3391-1657049400-1657049400@www.cornerstonevictoria.com
SUMMARY:Bible classes for all ages
DESCRIPTION:This book of the law shall not depart out of thy mouth; but thou shalt meditate therein day and night\, that thou mayest observe to do according to all that is written therein: for then thou shalt make thy way prosperous\, and then thou shalt have good success. Joshua 1:8
URL:https://www.cornerstonevictoria.com/event/bible-study-2-2022-07-05/
LOCATION:Cornerstone Pentecostal Church\, 4274 Wilkinson Rd\, Victoria\, BC\, Victoria\, BC\, V8Z 5B5\, Canada
ATTACH;FMTTYPE=image/png:https://www.cornerstonevictoria.com/wp-content/uploads/2022/06/Bible-study-Cornerstone-Victoria.png
END:VEVENT
BEGIN:VEVENT
DTSTART;TZID=America/Vancouver:20220703T120000
DTEND;TZID=America/Vancouver:20220703T120000
DTSTAMP:20260421T065653
CREATED:20220628T093007Z
LAST-MODIFIED:20240104T232028Z
UID:2743-1656849600-1656849600@www.cornerstonevictoria.com
SUMMARY:Worship Service
DESCRIPTION:I was glad when they said unto me\, Let us go into the house of the Lord. Psalm 122:1
URL:https://www.cornerstonevictoria.com/event/sunday-worship-service-2022-07-03/
LOCATION:BC
ATTACH;FMTTYPE=image/png:https://www.cornerstonevictoria.com/wp-content/uploads/2022/06/Sunday-Service.png
END:VEVENT
BEGIN:VEVENT
DTSTART;TZID=America/Vancouver:20220628T193000
DTEND;TZID=America/Vancouver:20220628T193000
DTSTAMP:20260421T065653
CREATED:20220628T043850Z
LAST-MODIFIED:20230113T044131Z
UID:3315-1656444600-1656444600@www.cornerstonevictoria.com
SUMMARY:Bible classes for all ages
DESCRIPTION:This book of the law shall not depart out of thy mouth; but thou shalt meditate therein day and night\, that thou mayest observe to do according to all that is written therein: for then thou shalt make thy way prosperous\, and then thou shalt have good success. Joshua 1:8
URL:https://www.cornerstonevictoria.com/event/bible-study-2-2022-06-28/
LOCATION:Cornerstone Pentecostal Church\, 4274 Wilkinson Rd\, Victoria\, BC\, Victoria\, BC\, V8Z 5B5\, Canada
ATTACH;FMTTYPE=image/png:https://www.cornerstonevictoria.com/wp-content/uploads/2022/06/Bible-study-Cornerstone-Victoria.png
END:VEVENT
BEGIN:VEVENT
DTSTART;TZID=America/Vancouver:20220626T120000
DTEND;TZID=America/Vancouver:20220626T120000
DTSTAMP:20260421T065653
CREATED:20220628T093007Z
LAST-MODIFIED:20240104T232028Z
UID:2742-1656244800-1656244800@www.cornerstonevictoria.com
SUMMARY:Worship Service
DESCRIPTION:I was glad when they said unto me\, Let us go into the house of the Lord. Psalm 122:1
URL:https://www.cornerstonevictoria.com/event/sunday-worship-service-2022-06-26/
LOCATION:BC
ATTACH;FMTTYPE=image/png:https://www.cornerstonevictoria.com/wp-content/uploads/2022/06/Sunday-Service.png
END:VEVENT
BEGIN:VEVENT
DTSTART;TZID=America/Vancouver:20220621T193000
DTEND;TZID=America/Vancouver:20220621T193000
DTSTAMP:20260421T065653
CREATED:20220628T043850Z
LAST-MODIFIED:20230113T044130Z
UID:3314-1655839800-1655839800@www.cornerstonevictoria.com
SUMMARY:Bible classes for all ages
DESCRIPTION:This book of the law shall not depart out of thy mouth; but thou shalt meditate therein day and night\, that thou mayest observe to do according to all that is written therein: for then thou shalt make thy way prosperous\, and then thou shalt have good success. Joshua 1:8
URL:https://www.cornerstonevictoria.com/event/bible-study-2-2022-06-21/
LOCATION:Cornerstone Pentecostal Church\, 4274 Wilkinson Rd\, Victoria\, BC\, Victoria\, BC\, V8Z 5B5\, Canada
ATTACH;FMTTYPE=image/png:https://www.cornerstonevictoria.com/wp-content/uploads/2022/06/Bible-study-Cornerstone-Victoria.png
END:VEVENT
BEGIN:VEVENT
DTSTART;TZID=America/Vancouver:20220619T120000
DTEND;TZID=America/Vancouver:20220619T120000
DTSTAMP:20260421T065653
CREATED:20220628T093007Z
LAST-MODIFIED:20220628T093007Z
UID:4462-1655640000-1655640000@www.cornerstonevictoria.com
SUMMARY:Worship Service
DESCRIPTION:I was glad when they said unto me\, Let us go into the house of the Lord. Psalm 122:1
URL:https://www.cornerstonevictoria.com/event/sunday-worship-service-2022-06-19/
LOCATION:BC
ATTACH;FMTTYPE=image/png:https://www.cornerstonevictoria.com/wp-content/uploads/2022/06/Sunday-Service.png
END:VEVENT
BEGIN:VEVENT
DTSTART;TZID=America/Vancouver:20220617T170000
DTEND;TZID=America/Vancouver:20220617T170000
DTSTAMP:20260421T065653
CREATED:20220629T140450Z
LAST-MODIFIED:20220630T022552Z
UID:3721-1655485200-1655485200@www.cornerstonevictoria.com
SUMMARY:Bread Ministry
DESCRIPTION:In addition to prayers and the word of God\, the mission of the bread ministry is to meet peoples’ needs through freshly baked bread provided in the church on a weekly basis every Friday evenings at 5pm. Feel free to stop by!
URL:https://www.cornerstonevictoria.com/event/bread-ministry-2022-06-17/
LOCATION:Cornerstone Pentecostal Church\, 4274 Wilkinson Rd\, Victoria\, BC\, Victoria\, BC\, V8Z 5B5\, Canada
ATTACH;FMTTYPE=image/png:https://www.cornerstonevictoria.com/wp-content/uploads/2022/06/Bread-Ministry.png
END:VEVENT
BEGIN:VEVENT
DTSTART;TZID=America/Vancouver:20220614T193000
DTEND;TZID=America/Vancouver:20220614T193000
DTSTAMP:20260421T065653
CREATED:20220628T043850Z
LAST-MODIFIED:20230113T054059Z
UID:3121-1655235000-1655235000@www.cornerstonevictoria.com
SUMMARY:Acoustic Tuesday
DESCRIPTION:This book of the law shall not depart out of thy mouth; but thou shalt meditate therein day and night\, that thou mayest observe to do according to all that is written therein: for then thou shalt make thy way prosperous\, and then thou shalt have good success. Joshua 1:8
URL:https://www.cornerstonevictoria.com/event/bible-study-2-2022-01-04-2022-06-14/
LOCATION:Cornerstone Pentecostal Church\, 4274 Wilkinson Rd\, Victoria\, BC\, Victoria\, BC\, V8Z 5B5\, Canada
ATTACH;FMTTYPE=image/png:https://www.cornerstonevictoria.com/wp-content/uploads/2022/06/Bible-study-Cornerstone-Victoria.png
END:VEVENT
BEGIN:VEVENT
DTSTART;TZID=America/Vancouver:20220612T120000
DTEND;TZID=America/Vancouver:20220612T120000
DTSTAMP:20260421T065653
CREATED:20220628T093007Z
LAST-MODIFIED:20240104T232028Z
UID:2740-1655035200-1655035200@www.cornerstonevictoria.com
SUMMARY:Worship Service
DESCRIPTION:I was glad when they said unto me\, Let us go into the house of the Lord. Psalm 122:1
URL:https://www.cornerstonevictoria.com/event/sunday-worship-service-2022-06-12/
LOCATION:BC
ATTACH;FMTTYPE=image/png:https://www.cornerstonevictoria.com/wp-content/uploads/2022/06/Sunday-Service.png
END:VEVENT
BEGIN:VEVENT
DTSTART;TZID=America/Vancouver:20220610T170000
DTEND;TZID=America/Vancouver:20220610T170000
DTSTAMP:20260421T065653
CREATED:20220629T140450Z
LAST-MODIFIED:20220630T022552Z
UID:3720-1654880400-1654880400@www.cornerstonevictoria.com
SUMMARY:Bread Ministry
DESCRIPTION:In addition to prayers and the word of God\, the mission of the bread ministry is to meet peoples’ needs through freshly baked bread provided in the church on a weekly basis every Friday evenings at 5pm. Feel free to stop by!
URL:https://www.cornerstonevictoria.com/event/bread-ministry-2022-06-10/
LOCATION:Cornerstone Pentecostal Church\, 4274 Wilkinson Rd\, Victoria\, BC\, Victoria\, BC\, V8Z 5B5\, Canada
ATTACH;FMTTYPE=image/png:https://www.cornerstonevictoria.com/wp-content/uploads/2022/06/Bread-Ministry.png
END:VEVENT
BEGIN:VEVENT
DTSTART;TZID=America/Vancouver:20220607T193000
DTEND;TZID=America/Vancouver:20220607T193000
DTSTAMP:20260421T065653
CREATED:20220628T043850Z
LAST-MODIFIED:20230113T044130Z
UID:3313-1654630200-1654630200@www.cornerstonevictoria.com
SUMMARY:Bible classes for all ages
DESCRIPTION:This book of the law shall not depart out of thy mouth; but thou shalt meditate therein day and night\, that thou mayest observe to do according to all that is written therein: for then thou shalt make thy way prosperous\, and then thou shalt have good success. Joshua 1:8
URL:https://www.cornerstonevictoria.com/event/bible-study-2-2022-06-07/
LOCATION:Cornerstone Pentecostal Church\, 4274 Wilkinson Rd\, Victoria\, BC\, Victoria\, BC\, V8Z 5B5\, Canada
ATTACH;FMTTYPE=image/png:https://www.cornerstonevictoria.com/wp-content/uploads/2022/06/Bible-study-Cornerstone-Victoria.png
END:VEVENT
BEGIN:VEVENT
DTSTART;TZID=America/Vancouver:20220605T120000
DTEND;TZID=America/Vancouver:20220605T120000
DTSTAMP:20260421T065653
CREATED:20220628T093007Z
LAST-MODIFIED:20240104T232028Z
UID:2739-1654430400-1654430400@www.cornerstonevictoria.com
SUMMARY:Worship Service
DESCRIPTION:I was glad when they said unto me\, Let us go into the house of the Lord. Psalm 122:1
URL:https://www.cornerstonevictoria.com/event/sunday-worship-service-2022-06-05/
LOCATION:BC
ATTACH;FMTTYPE=image/png:https://www.cornerstonevictoria.com/wp-content/uploads/2022/06/Sunday-Service.png
END:VEVENT
BEGIN:VEVENT
DTSTART;TZID=America/Vancouver:20220603T170000
DTEND;TZID=America/Vancouver:20220603T170000
DTSTAMP:20260421T065653
CREATED:20220629T140450Z
LAST-MODIFIED:20220630T022551Z
UID:3719-1654275600-1654275600@www.cornerstonevictoria.com
SUMMARY:Bread Ministry
DESCRIPTION:In addition to prayers and the word of God\, the mission of the bread ministry is to meet peoples’ needs through freshly baked bread provided in the church on a weekly basis every Friday evenings at 5pm. Feel free to stop by!
URL:https://www.cornerstonevictoria.com/event/bread-ministry-2022-06-03/
LOCATION:Cornerstone Pentecostal Church\, 4274 Wilkinson Rd\, Victoria\, BC\, Victoria\, BC\, V8Z 5B5\, Canada
ATTACH;FMTTYPE=image/png:https://www.cornerstonevictoria.com/wp-content/uploads/2022/06/Bread-Ministry.png
END:VEVENT
BEGIN:VEVENT
DTSTART;TZID=America/Vancouver:20220531T193000
DTEND;TZID=America/Vancouver:20220531T193000
DTSTAMP:20260421T065653
CREATED:20220628T043850Z
LAST-MODIFIED:20230113T044130Z
UID:3312-1654025400-1654025400@www.cornerstonevictoria.com
SUMMARY:Bible classes for all ages
DESCRIPTION:This book of the law shall not depart out of thy mouth; but thou shalt meditate therein day and night\, that thou mayest observe to do according to all that is written therein: for then thou shalt make thy way prosperous\, and then thou shalt have good success. Joshua 1:8
URL:https://www.cornerstonevictoria.com/event/bible-study-2-2022-05-31/
LOCATION:Cornerstone Pentecostal Church\, 4274 Wilkinson Rd\, Victoria\, BC\, Victoria\, BC\, V8Z 5B5\, Canada
ATTACH;FMTTYPE=image/png:https://www.cornerstonevictoria.com/wp-content/uploads/2022/06/Bible-study-Cornerstone-Victoria.png
END:VEVENT
BEGIN:VEVENT
DTSTART;TZID=America/Vancouver:20220529T120000
DTEND;TZID=America/Vancouver:20220529T120000
DTSTAMP:20260421T065653
CREATED:20220628T093007Z
LAST-MODIFIED:20240104T232028Z
UID:2738-1653825600-1653825600@www.cornerstonevictoria.com
SUMMARY:Worship Service
DESCRIPTION:I was glad when they said unto me\, Let us go into the house of the Lord. Psalm 122:1
URL:https://www.cornerstonevictoria.com/event/sunday-worship-service-2022-05-29/
LOCATION:BC
ATTACH;FMTTYPE=image/png:https://www.cornerstonevictoria.com/wp-content/uploads/2022/06/Sunday-Service.png
END:VEVENT
BEGIN:VEVENT
DTSTART;TZID=America/Vancouver:20220527T170000
DTEND;TZID=America/Vancouver:20220527T170000
DTSTAMP:20260421T065653
CREATED:20220629T140450Z
LAST-MODIFIED:20220630T022551Z
UID:3718-1653670800-1653670800@www.cornerstonevictoria.com
SUMMARY:Bread Ministry
DESCRIPTION:In addition to prayers and the word of God\, the mission of the bread ministry is to meet peoples’ needs through freshly baked bread provided in the church on a weekly basis every Friday evenings at 5pm. Feel free to stop by!
URL:https://www.cornerstonevictoria.com/event/bread-ministry-2022-05-27/
LOCATION:Cornerstone Pentecostal Church\, 4274 Wilkinson Rd\, Victoria\, BC\, Victoria\, BC\, V8Z 5B5\, Canada
ATTACH;FMTTYPE=image/png:https://www.cornerstonevictoria.com/wp-content/uploads/2022/06/Bread-Ministry.png
END:VEVENT
BEGIN:VEVENT
DTSTART;TZID=America/Vancouver:20220524T193000
DTEND;TZID=America/Vancouver:20220524T193000
DTSTAMP:20260421T065653
CREATED:20220628T043850Z
LAST-MODIFIED:20230113T044130Z
UID:3390-1653420600-1653420600@www.cornerstonevictoria.com
SUMMARY:Bible classes for all ages
DESCRIPTION:This book of the law shall not depart out of thy mouth; but thou shalt meditate therein day and night\, that thou mayest observe to do according to all that is written therein: for then thou shalt make thy way prosperous\, and then thou shalt have good success. Joshua 1:8
URL:https://www.cornerstonevictoria.com/event/bible-study-2-2022-05-24/
LOCATION:Cornerstone Pentecostal Church\, 4274 Wilkinson Rd\, Victoria\, BC\, Victoria\, BC\, V8Z 5B5\, Canada
ATTACH;FMTTYPE=image/png:https://www.cornerstonevictoria.com/wp-content/uploads/2022/06/Bible-study-Cornerstone-Victoria.png
END:VEVENT
BEGIN:VEVENT
DTSTART;TZID=America/Vancouver:20220522T120000
DTEND;TZID=America/Vancouver:20220522T120000
DTSTAMP:20260421T065653
CREATED:20220628T093007Z
LAST-MODIFIED:20240104T232028Z
UID:2737-1653220800-1653220800@www.cornerstonevictoria.com
SUMMARY:Worship Service
DESCRIPTION:I was glad when they said unto me\, Let us go into the house of the Lord. Psalm 122:1
URL:https://www.cornerstonevictoria.com/event/sunday-worship-service-2022-05-22/
LOCATION:BC
ATTACH;FMTTYPE=image/png:https://www.cornerstonevictoria.com/wp-content/uploads/2022/06/Sunday-Service.png
END:VEVENT
BEGIN:VEVENT
DTSTART;TZID=America/Vancouver:20220520T170000
DTEND;TZID=America/Vancouver:20220520T170000
DTSTAMP:20260421T065653
CREATED:20220629T140450Z
LAST-MODIFIED:20220630T022551Z
UID:3717-1653066000-1653066000@www.cornerstonevictoria.com
SUMMARY:Bread Ministry
DESCRIPTION:In addition to prayers and the word of God\, the mission of the bread ministry is to meet peoples’ needs through freshly baked bread provided in the church on a weekly basis every Friday evenings at 5pm. Feel free to stop by!
URL:https://www.cornerstonevictoria.com/event/bread-ministry-2022-05-20/
LOCATION:Cornerstone Pentecostal Church\, 4274 Wilkinson Rd\, Victoria\, BC\, Victoria\, BC\, V8Z 5B5\, Canada
ATTACH;FMTTYPE=image/png:https://www.cornerstonevictoria.com/wp-content/uploads/2022/06/Bread-Ministry.png
END:VEVENT
BEGIN:VEVENT
DTSTART;TZID=America/Vancouver:20220517T193000
DTEND;TZID=America/Vancouver:20220517T193000
DTSTAMP:20260421T065653
CREATED:20220628T043850Z
LAST-MODIFIED:20230113T044129Z
UID:3311-1652815800-1652815800@www.cornerstonevictoria.com
SUMMARY:Bible classes for all ages
DESCRIPTION:This book of the law shall not depart out of thy mouth; but thou shalt meditate therein day and night\, that thou mayest observe to do according to all that is written therein: for then thou shalt make thy way prosperous\, and then thou shalt have good success. Joshua 1:8
URL:https://www.cornerstonevictoria.com/event/bible-study-2-2022-05-17/
LOCATION:Cornerstone Pentecostal Church\, 4274 Wilkinson Rd\, Victoria\, BC\, Victoria\, BC\, V8Z 5B5\, Canada
ATTACH;FMTTYPE=image/png:https://www.cornerstonevictoria.com/wp-content/uploads/2022/06/Bible-study-Cornerstone-Victoria.png
END:VEVENT
BEGIN:VEVENT
DTSTART;TZID=America/Vancouver:20220515T120000
DTEND;TZID=America/Vancouver:20220515T120000
DTSTAMP:20260421T065653
CREATED:20220628T093007Z
LAST-MODIFIED:20240104T232027Z
UID:2736-1652616000-1652616000@www.cornerstonevictoria.com
SUMMARY:Worship Service
DESCRIPTION:I was glad when they said unto me\, Let us go into the house of the Lord. Psalm 122:1
URL:https://www.cornerstonevictoria.com/event/sunday-worship-service-2022-05-15/
LOCATION:BC
ATTACH;FMTTYPE=image/png:https://www.cornerstonevictoria.com/wp-content/uploads/2022/06/Sunday-Service.png
END:VEVENT
END:VCALENDAR